BEGIN:VCALENDAR
VERSION:2.0
PRODID:-//hacksw/handcal//NONSGML v1.0//EN
CALSCALE:GREGORIAN
BEGIN:VTIMEZONE
TZID:Europe/Berlin
X-LIC-LOCATION:Europe/Berlin
BEGIN:DAYLIGHT
TZOFFSETFROM:+0100
TZOFFSETTO:+0200
TZNAME:CEST
DTSTART:19700329T020000
RRULE:FREQ=YEARLY;BYDAY=-1SU;BYMONTH=3
END:DAYLIGHT
BEGIN:STANDARD
TZOFFSETFROM:+0200
TZOFFSETTO:+0100
TZNAME:CET
DTSTART:19701025T030000
RRULE:FREQ=YEARLY;BYDAY=-1SU;BYMONTH=10
END:STANDARD
END:VTIMEZONE
BEGIN:VEVENT
DTEND;TZID=Europe/Berlin:20250812T000000
UID:69e5fcf0d2939
DTSTAMP:20260420T121616
LOCATION:Filmcenter Dillingen
DESCRIPTION:Direkt aus dem Europa Park kommt zum ersten Mal ein Langspielfilm rund um Ed und Edda\, die Maskottchen des Freizeitparks. Darin träumt die junge Edda\, Tochter des Freizeitparkbesitzers Erwin\, von einer Karriere als Rennfahrerin. Während des 50. Jubiläum des Grand Prix of Europe trifft sie auf ihr Rennfahreridol Ed und will unbedingt in seine Fußstapfen treten. Aber zuvor braucht sie eine Idee\, um das Geschäft ihres Vaters zu retten.
URL;VALUE=URI:https://www.unser-ferienprogramm.de/dillingen_donau/veranstaltung.php?id=289
SUMMARY:Kino "Grand Prix of Europe"
DTSTART;TZID=Europe/Berlin:20250812T000000
END:VEVENT

END:VCALENDAR
