BEGIN:VCALENDAR
VERSION:2.0
PRODID:-//hacksw/handcal//NONSGML v1.0//EN
CALSCALE:GREGORIAN
BEGIN:VTIMEZONE
TZID:Europe/Berlin
X-LIC-LOCATION:Europe/Berlin
BEGIN:DAYLIGHT
TZOFFSETFROM:+0100
TZOFFSETTO:+0200
TZNAME:CEST
DTSTART:19700329T020000
RRULE:FREQ=YEARLY;BYDAY=-1SU;BYMONTH=3
END:DAYLIGHT
BEGIN:STANDARD
TZOFFSETFROM:+0200
TZOFFSETTO:+0100
TZNAME:CET
DTSTART:19701025T030000
RRULE:FREQ=YEARLY;BYDAY=-1SU;BYMONTH=10
END:STANDARD
END:VTIMEZONE
BEGIN:VEVENT
DTEND;TZID=Europe/Berlin:20250816T000000
UID:69e5fca620052
DTSTAMP:20260420T121502
LOCATION:Zeltplatz beim Reimertshof
DESCRIPTION:Dieses Jahr begeben wir uns auf eine lange Reise im majestätischen Orient Express.\r\n\r\nSobald die Fahrkarten gelöst sind\, werden die Türen des Zuges geschlossen und die Reise kann beginnen. Wir Passagiere sind eine bunte Mischung aus Abenteurern\, voller Vorfreude was uns erwartet.\r\n\r\nWir reisen vom Reimertshof in den fernen Orient – Ein Abenteuer zwischen drei Kontinenten.\r\n\r\nNach einer langen Fahrt durch die malerischen Landschaften Europas erreicht der Zug Kairo\, das Tor zur arabischen Welt. Der Duft von Gewürzen und frisch gebackenem Brot liegt in der Luft. Wir verlieren uns in einem Labyrinth aus Farben und Klängen. Auf unseren Kamelen werden wir durch die Wüste reiten und im Sonnenuntergang auf die Pyramiden von Gizeh blicken. Doch Vorsicht vor den Beduinen\, die mit Ihren Geschichten über die Wüste uns in Ihren Bann ziehen werden.\r\nNach einem spannenden Aufenthalt in Kairo setzen wir die Fahrt im Orient Express fort. Mysteriöse Dinge werden während der Reise geschehen\, die wir erkunden und lösen werden.\r\n\r\nWir überqueren das Rote Meer um in Neu Delhi zu landen. Die Farben und Düfte der indischen Kultur überfluten regelrecht unsere Sinne. Auf dem Weg zum Taj Mahal laufen wir durch die engen mit Menschen überfüllten Gassen. Wir genießen jeden Augenblick dieser für uns fremden Kultur.\r\n\r\nDer letzte Halt der abenteuerlichen Reise wird Riad sein\, die glitzernde Hauptstadt Saudi-Arabiens mit Ihren schimmernden Wolkenkratzern. Hier begegnen wir seiner Kultur\, die tief verwurzelt und gleichzeitig modern ist. In der Stille der arabischen Wüste sitzen wir von Gefühlen überwältigt um unser Lagerfeuer und hören die Geschichten über das Leben der Nomaden\, singen Lieder und genießen frisch gebackenes Brot.\r\n\r\nErschöpft werden wir wieder auf den Reimertshof zurückkehren und haben die Vielfalt unserer Welt kennen gelernt. Es wird eine unvergessliche Reise mit vielen Neuen Begegnungen werden.\r\n\r\n\r\nDie Anmeldung erfolgt direkt über die Wasserwacht Ortsgruppe Lauingen\, nähere Info's siehe Flyer.\r\n
URL;VALUE=URI:https://www.unser-ferienprogramm.de/dillingen_donau/veranstaltung.php?id=285
SUMMARY:Zeltlager Wasserwacht (7 Tage)
DTSTART;TZID=Europe/Berlin:20250810T000000
END:VEVENT

END:VCALENDAR
