BEGIN:VCALENDAR
VERSION:2.0
PRODID:-//hacksw/handcal//NONSGML v1.0//EN
CALSCALE:GREGORIAN
BEGIN:VTIMEZONE
TZID:Europe/Berlin
X-LIC-LOCATION:Europe/Berlin
BEGIN:DAYLIGHT
TZOFFSETFROM:+0100
TZOFFSETTO:+0200
TZNAME:CEST
DTSTART:19700329T020000
RRULE:FREQ=YEARLY;BYDAY=-1SU;BYMONTH=3
END:DAYLIGHT
BEGIN:STANDARD
TZOFFSETFROM:+0200
TZOFFSETTO:+0100
TZNAME:CET
DTSTART:19701025T030000
RRULE:FREQ=YEARLY;BYDAY=-1SU;BYMONTH=10
END:STANDARD
END:VTIMEZONE
BEGIN:VEVENT
DTEND;TZID=Europe/Berlin:20250815T130000
UID:69e5fd6b53d5d
DTSTAMP:20260420T121819
LOCATION:Hundeschule "Kalte Schnauze"
DESCRIPTION:Der eigene Hund ist der Traum vieler Kinder. An diesem Tag könnt Ihr bei uns viele verschiedene Hunde kennenlernen und ihnen nahe sein. Ihr bekommt theoretische und praktische Tipps zum Umgang mit dem Hund.\r\nZum Abschluss erhält Ihr eine Urkunde mit Foto.\r\n\r\n\r\n
URL;VALUE=URI:https://www.unser-ferienprogramm.de/dillingen_donau/veranstaltung.php?id=2831
SUMMARY:Ein Tag mit Hund
DTSTART;TZID=Europe/Berlin:20250815T100000
END:VEVENT

END:VCALENDAR
