BEGIN:VCALENDAR
VERSION:2.0
PRODID:-//hacksw/handcal//NONSGML v1.0//EN
CALSCALE:GREGORIAN
BEGIN:VTIMEZONE
TZID:Europe/Berlin
X-LIC-LOCATION:Europe/Berlin
BEGIN:DAYLIGHT
TZOFFSETFROM:+0100
TZOFFSETTO:+0200
TZNAME:CEST
DTSTART:19700329T020000
RRULE:FREQ=YEARLY;BYDAY=-1SU;BYMONTH=3
END:DAYLIGHT
BEGIN:STANDARD
TZOFFSETFROM:+0200
TZOFFSETTO:+0100
TZNAME:CET
DTSTART:19701025T030000
RRULE:FREQ=YEARLY;BYDAY=-1SU;BYMONTH=10
END:STANDARD
END:VTIMEZONE
BEGIN:VEVENT
DTEND;TZID=Europe/Berlin:20250809T123000
UID:69e5fcd75ae07
DTSTAMP:20260420T121551
LOCATION:Tennisanlage TC Hausen
DESCRIPTION:Schnuppertennis beim TC Hausen. \r\n\r\nIhr könnt unter fachgerechter Anleitung den Schläger schwingen.\r\n\r\nZum Abschluß gibt es noch ein kindgerechtes Mittagessen (im Preis enthalten).
URL;VALUE=URI:https://www.unser-ferienprogramm.de/dillingen_donau/veranstaltung.php?id=277
SUMMARY:Tennis TC Hausen
DTSTART;TZID=Europe/Berlin:20250809T090000
END:VEVENT

END:VCALENDAR
