BEGIN:VCALENDAR
VERSION:2.0
PRODID:-//hacksw/handcal//NONSGML v1.0//EN
CALSCALE:GREGORIAN
BEGIN:VTIMEZONE
TZID:Europe/Berlin
X-LIC-LOCATION:Europe/Berlin
BEGIN:DAYLIGHT
TZOFFSETFROM:+0100
TZOFFSETTO:+0200
TZNAME:CEST
DTSTART:19700329T020000
RRULE:FREQ=YEARLY;BYDAY=-1SU;BYMONTH=3
END:DAYLIGHT
BEGIN:STANDARD
TZOFFSETFROM:+0200
TZOFFSETTO:+0100
TZNAME:CET
DTSTART:19701025T030000
RRULE:FREQ=YEARLY;BYDAY=-1SU;BYMONTH=10
END:STANDARD
END:VTIMEZONE
BEGIN:VEVENT
DTEND;TZID=Europe/Berlin:20250802T130000
UID:69e5fcfaa2107
DTSTAMP:20260420T121626
LOCATION:Fischerheim Dillingen
DESCRIPTION:Du wolltest schon immer mal selbst eine Angel in die Hand nehmen und schauen\, was im Wasser so alles schimmt?\r\n\r\nDann bist Du bei uns genau richtig! Gemeinsam verbringen wir einen spannenden Tag am Wasser\, lernen die Grundlagen des Angelns kennen und versuchen\, den ein oder anderen Fisch zu landen.\r\n\r\nFür Verpflegung und Ausrüstung ist gesorgt.
URL;VALUE=URI:https://www.unser-ferienprogramm.de/dillingen_donau/veranstaltung.php?id=276
SUMMARY:Ein Tag am Wasser - Fischen
DTSTART;TZID=Europe/Berlin:20250802T080000
END:VEVENT

END:VCALENDAR
