BEGIN:VCALENDAR
VERSION:2.0
PRODID:-//hacksw/handcal//NONSGML v1.0//EN
CALSCALE:GREGORIAN
BEGIN:VTIMEZONE
TZID:Europe/Berlin
X-LIC-LOCATION:Europe/Berlin
BEGIN:DAYLIGHT
TZOFFSETFROM:+0100
TZOFFSETTO:+0200
TZNAME:CEST
DTSTART:19700329T020000
RRULE:FREQ=YEARLY;BYDAY=-1SU;BYMONTH=3
END:DAYLIGHT
BEGIN:STANDARD
TZOFFSETFROM:+0200
TZOFFSETTO:+0100
TZNAME:CET
DTSTART:19701025T030000
RRULE:FREQ=YEARLY;BYDAY=-1SU;BYMONTH=10
END:STANDARD
END:VTIMEZONE
BEGIN:VEVENT
DTEND;TZID=Europe/Berlin:20250807T120000
UID:69e6150f4a03b
DTSTAMP:20260420T135911
LOCATION:Stadtbücherei Dillingen
DESCRIPTION:Ein kreativer Bau-Workshop für kleine Baumeister mit dem VDI Augsburger Bezirksverein!\r\nWir erschaffen gemeinsam eine fantasievolle Mini-Stadt – komplett aus Recyclingmaterialien! Aus leeren Verpackungen\, alten Papprollen\, Flaschendeckeln und vielem mehr gestalten wir bunte Häuser\, Läden\, Parks\, Straßen und alles\, was in eine lebendige Stadt gehört. Ob ein Spielplatz aus Korken oder ein Hochhaus aus Karton – eurer Kreativität sind keine Grenzen gesetzt!\r\n\r\nWas erwartet euch?\r\n- Spannende Bastelmöglichkeiten\r\n- Bauen\, Kleben\, Malen & Gestalten\r\n- Gemeinsam entdecken\, wie aus alten Dingen Neues entsteht\r\n- Jede Menge Spaß\, Kreativität und bunte Ideen\r\n- Viel Raum für Fantasie und Teamarbeit\r\n\r\nLasst uns zusammen eine Stadt erfinden\, wie sie noch niemand gesehen hat – nachhaltig und bunt!
URL;VALUE=URI:https://www.unser-ferienprogramm.de/dillingen_donau/veranstaltung.php?id=263376
SUMMARY:Kleine Stadt\, großes Abenteuer!
DTSTART;TZID=Europe/Berlin:20250807T100000
END:VEVENT

END:VCALENDAR
