BEGIN:VCALENDAR
VERSION:2.0
PRODID:-//hacksw/handcal//NONSGML v1.0//EN
CALSCALE:GREGORIAN
BEGIN:VTIMEZONE
TZID:Europe/Berlin
X-LIC-LOCATION:Europe/Berlin
BEGIN:DAYLIGHT
TZOFFSETFROM:+0100
TZOFFSETTO:+0200
TZNAME:CEST
DTSTART:19700329T020000
RRULE:FREQ=YEARLY;BYDAY=-1SU;BYMONTH=3
END:DAYLIGHT
BEGIN:STANDARD
TZOFFSETFROM:+0200
TZOFFSETTO:+0100
TZNAME:CET
DTSTART:19701025T030000
RRULE:FREQ=YEARLY;BYDAY=-1SU;BYMONTH=10
END:STANDARD
END:VTIMEZONE
BEGIN:VEVENT
DTEND;TZID=Europe/Berlin:20250805T123000
UID:69e6150f2dd42
DTSTAMP:20260420T135911
LOCATION:Stadtbücherei Dillingen
DESCRIPTION:In dem Workshop mit dem VDI Augsburger Bezirksverein tauchen wir in die spannende Welt des 3D-Designs und -Drucks ein! Du entdeckst\, wie man am Computer eigene Figuren und Formen entwirft – von einfachen Objekten bis hin zu kleinen Fantasie-Kreationen. Du lernst Schritt für Schritt\, wie man mit einem Zeichenprogramm 3D-Modelle erstellt und worauf es dabei ankommt.\r\n\r\nWas erwartet euch?\r\n- Einführung in das 3D-Zeichnen am Computer\r\n- Eigene Modelle gestalten – ganz einfach und kreativ\r\n- Ein kleiner Einblick in die Technik hinter dem 3D-Druck\r\n\r\nNach dem Workshop werden die entstandenen Entwürfe gedruckt – und können später in der Stadtbücherei abgeholt werden!
URL;VALUE=URI:https://www.unser-ferienprogramm.de/dillingen_donau/veranstaltung.php?id=263335
SUMMARY:3D-Druck entdecken! - Workshop für kreative Köpfe 1
DTSTART;TZID=Europe/Berlin:20250805T093000
END:VEVENT

END:VCALENDAR
