BEGIN:VCALENDAR
VERSION:2.0
PRODID:-//hacksw/handcal//NONSGML v1.0//EN
CALSCALE:GREGORIAN
BEGIN:VTIMEZONE
TZID:Europe/Berlin
X-LIC-LOCATION:Europe/Berlin
BEGIN:DAYLIGHT
TZOFFSETFROM:+0100
TZOFFSETTO:+0200
TZNAME:CEST
DTSTART:19700329T020000
RRULE:FREQ=YEARLY;BYDAY=-1SU;BYMONTH=3
END:DAYLIGHT
BEGIN:STANDARD
TZOFFSETFROM:+0200
TZOFFSETTO:+0100
TZNAME:CET
DTSTART:19701025T030000
RRULE:FREQ=YEARLY;BYDAY=-1SU;BYMONTH=10
END:STANDARD
END:VTIMEZONE
BEGIN:VEVENT
DTEND;TZID=Europe/Berlin:20250809T110000
UID:69e614bbc5dbb
DTSTAMP:20260420T135747
LOCATION:Kletterwand Mittelschulturnhalle
DESCRIPTION:Du willst Dich einmal wie ein richtiger Bergsteiger fühlen? Dann ist das genau das Richtige für Dich. An diesem speziell für Einsteiger zugeschnittenen Vormittag erhältst Du einen ersten Eindruck vom Sportklettern. Von erfahrenen Trainern am Seil gesichert\, kannst Du so ganz sorgenfrei die 8 m hohe Kletterwand erklimmen.\r\n
URL;VALUE=URI:https://www.unser-ferienprogramm.de/dillingen_donau/veranstaltung.php?id=2402
SUMMARY:Klettern 
DTSTART;TZID=Europe/Berlin:20250809T090000
END:VEVENT

END:VCALENDAR
