BEGIN:VCALENDAR
VERSION:2.0
PRODID:-//hacksw/handcal//NONSGML v1.0//EN
CALSCALE:GREGORIAN
BEGIN:VTIMEZONE
TZID:Europe/Berlin
X-LIC-LOCATION:Europe/Berlin
BEGIN:DAYLIGHT
TZOFFSETFROM:+0100
TZOFFSETTO:+0200
TZNAME:CEST
DTSTART:19700329T020000
RRULE:FREQ=YEARLY;BYDAY=-1SU;BYMONTH=3
END:DAYLIGHT
BEGIN:STANDARD
TZOFFSETFROM:+0200
TZOFFSETTO:+0100
TZNAME:CET
DTSTART:19701025T030000
RRULE:FREQ=YEARLY;BYDAY=-1SU;BYMONTH=10
END:STANDARD
END:VTIMEZONE
BEGIN:VEVENT
DTEND;TZID=Europe/Berlin:20250815T160000
UID:69e5fab19fbdf
DTSTAMP:20260420T120641
LOCATION:Schützenheim Eintracht Schretzheim
DESCRIPTION:Ihr wolltet schon immer einmal beweisen\, wie zielsicher Ihr seid? Dann seid dabei\, beim Ferienprogramm der Schützengesellschaft Eintracht Schretzheim. \r\n\r\nUnsere Trainer & Jugendschützen zeigen Euch mit einfachen Übungen die Grundlagen des Sportschießens. \r\n\r\nMit Lichtgewehr / Pistole im Anschlag\, könnt Ihr dann zeigen was Ihr gelernt habt und Euch im Wettbewerb miteinander messen. \r\n\r\nWir freuen uns auf Euren Besuch!\r\n
URL;VALUE=URI:https://www.unser-ferienprogramm.de/dillingen_donau/veranstaltung.php?id=239
SUMMARY:Schießen
DTSTART;TZID=Europe/Berlin:20250815T140000
END:VEVENT

END:VCALENDAR
