BEGIN:VCALENDAR
VERSION:2.0
PRODID:-//hacksw/handcal//NONSGML v1.0//EN
CALSCALE:GREGORIAN
BEGIN:VTIMEZONE
TZID:Europe/Berlin
X-LIC-LOCATION:Europe/Berlin
BEGIN:DAYLIGHT
TZOFFSETFROM:+0100
TZOFFSETTO:+0200
TZNAME:CEST
DTSTART:19700329T020000
RRULE:FREQ=YEARLY;BYDAY=-1SU;BYMONTH=3
END:DAYLIGHT
BEGIN:STANDARD
TZOFFSETFROM:+0200
TZOFFSETTO:+0100
TZNAME:CET
DTSTART:19701025T030000
RRULE:FREQ=YEARLY;BYDAY=-1SU;BYMONTH=10
END:STANDARD
END:VTIMEZONE
BEGIN:VEVENT
DTEND;TZID=Europe/Berlin:20250807T190000
UID:69e5fce4dbe3a
DTSTAMP:20260420T121604
LOCATION:Donauwörther Straße 3
DESCRIPTION:„Was ist eigentlich Allkampf?“ werdet Ihr Euch vielleicht fragen.\r\nTrainiert erst einmal aufmerksam und konzentriert mit\; dann werden sich viele eurer Fragen von alleine beantworten.\r\n\r\nAllkampf ist mehr als eine Sportart\, denn es fordert Euch nicht nur körperlich\, sondern auch geistig heraus. Es lehrt Euch\, schnell zu reagieren und eine Sache konzentriert und mit vollem Einsatz zu Ende zu bringen.\r\nDas bedeutet: Wenn Ihr etwas wollt\, dann könnt Ihr das auch erreichen.\r\nDabei ist es gleichgültig\, ob es darum geht\, eine Prüfung zu bestehen\, in der Schule eine schwere  Mathearbeit zu schreiben oder später im Beruf erfolgreich zu sein. \r\nAllkampf mit Taekwondo kombiniert\, so wie es bei uns trainiert wird ist eine super Ergänzung für Körper und Geist.\r\n\r\nLiebe Eltern\,\r\n\r\nihr Kind möchte bestimmt gerne im Allkampf einmal im Ferienprogramm mittrainieren. Ein Vorhaben\, das Sie zukünftig auch voll unterstützen können\, denn unser Allkampf fordert den Menschen körperlich und geistig. Ihr Kind lernt Körperbeherrschung und Disziplin. Es lernt\, sich auf eine Sache zu konzentrieren\, sein Selbstvertrauen wird gestärkt\, und die organische Gesundheit verbessert sich.\r\n\r\nÜbrigens - um einem weitverbreiteten Klischee vorzubeugen: Allkampf ist kein sogenannter „Haudrauf-Sport“\, sondern eine anerkannte Sportart in der Bewegungslehre und Selbstverteidigung. Der Ruf des Kampfsports ist durch die Medien leider arg in Mitleidenschaft gezogen worden. Szenen wie es sie im Fernseher und im Kino immer wieder zu sehen gibt\, sind absolut irreal und durch geschickte Kameraführung\, Special-Effects und Schnittechnik entstanden. Außerdem ist das alles andere als Allkampf\, was dort gezeigt wird.\r\n\r\nTraditioneller Allkampf\, so wie es hier und in den meisten Schulen gelehrt wird\, ist äußerst seriös. Das Brauchtum ist eher etwas konservativ\, orientiert sich an den Erfahrungen alter Meister und lehrt Werte\, die in der heutigen Gesellschaft leider immer mehr verloren gehen.\r\n\r\nEs ist verständlich\, daß ein Allkampfsportler\, der seine Graduierungen mit viel Fleiß\, Willensstärke\, Geduld und natürlich durch jahrelanges Training\, erworben hat\, sich von diesen Erscheinungen distanziert.\r\n
URL;VALUE=URI:https://www.unser-ferienprogramm.de/dillingen_donau/veranstaltung.php?id=238
SUMMARY:Allkampf (4 x Donnerstag)
DTSTART;TZID=Europe/Berlin:20250807T180000
END:VEVENT


BEGIN:VEVENT
DTEND;TZID=Europe/Berlin:20250828T190000
UID:69e5fce4dbe8d1
DTSTAMP:20260420T121604
LOCATION:Donauwörther Straße 3
DESCRIPTION:„Was ist eigentlich Allkampf?“ werdet Ihr Euch vielleicht fragen.\r\nTrainiert erst einmal aufmerksam und konzentriert mit\; dann werden sich viele eurer Fragen von alleine beantworten.\r\n\r\nAllkampf ist mehr als eine Sportart\, denn es fordert Euch nicht nur körperlich\, sondern auch geistig heraus. Es lehrt Euch\, schnell zu reagieren und eine Sache konzentriert und mit vollem Einsatz zu Ende zu bringen.\r\nDas bedeutet: Wenn Ihr etwas wollt\, dann könnt Ihr das auch erreichen.\r\nDabei ist es gleichgültig\, ob es darum geht\, eine Prüfung zu bestehen\, in der Schule eine schwere  Mathearbeit zu schreiben oder später im Beruf erfolgreich zu sein. \r\nAllkampf mit Taekwondo kombiniert\, so wie es bei uns trainiert wird ist eine super Ergänzung für Körper und Geist.\r\n\r\nLiebe Eltern\,\r\n\r\nihr Kind möchte bestimmt gerne im Allkampf einmal im Ferienprogramm mittrainieren. Ein Vorhaben\, das Sie zukünftig auch voll unterstützen können\, denn unser Allkampf fordert den Menschen körperlich und geistig. Ihr Kind lernt Körperbeherrschung und Disziplin. Es lernt\, sich auf eine Sache zu konzentrieren\, sein Selbstvertrauen wird gestärkt\, und die organische Gesundheit verbessert sich.\r\n\r\nÜbrigens - um einem weitverbreiteten Klischee vorzubeugen: Allkampf ist kein sogenannter „Haudrauf-Sport“\, sondern eine anerkannte Sportart in der Bewegungslehre und Selbstverteidigung. Der Ruf des Kampfsports ist durch die Medien leider arg in Mitleidenschaft gezogen worden. Szenen wie es sie im Fernseher und im Kino immer wieder zu sehen gibt\, sind absolut irreal und durch geschickte Kameraführung\, Special-Effects und Schnittechnik entstanden. Außerdem ist das alles andere als Allkampf\, was dort gezeigt wird.\r\n\r\nTraditioneller Allkampf\, so wie es hier und in den meisten Schulen gelehrt wird\, ist äußerst seriös. Das Brauchtum ist eher etwas konservativ\, orientiert sich an den Erfahrungen alter Meister und lehrt Werte\, die in der heutigen Gesellschaft leider immer mehr verloren gehen.\r\n\r\nEs ist verständlich\, daß ein Allkampfsportler\, der seine Graduierungen mit viel Fleiß\, Willensstärke\, Geduld und natürlich durch jahrelanges Training\, erworben hat\, sich von diesen Erscheinungen distanziert.\r\n
URL;VALUE=URI:https://www.unser-ferienprogramm.de/dillingen_donau/veranstaltung.php?id=238
SUMMARY:Allkampf (4 x Donnerstag)
DTSTART;TZID=Europe/Berlin:20250828T180000
END:VEVENT


BEGIN:VEVENT
DTEND;TZID=Europe/Berlin:20250904T190000
UID:69e5fce4dbea52
DTSTAMP:20260420T121604
LOCATION:Donauwörther Straße 3
DESCRIPTION:„Was ist eigentlich Allkampf?“ werdet Ihr Euch vielleicht fragen.\r\nTrainiert erst einmal aufmerksam und konzentriert mit\; dann werden sich viele eurer Fragen von alleine beantworten.\r\n\r\nAllkampf ist mehr als eine Sportart\, denn es fordert Euch nicht nur körperlich\, sondern auch geistig heraus. Es lehrt Euch\, schnell zu reagieren und eine Sache konzentriert und mit vollem Einsatz zu Ende zu bringen.\r\nDas bedeutet: Wenn Ihr etwas wollt\, dann könnt Ihr das auch erreichen.\r\nDabei ist es gleichgültig\, ob es darum geht\, eine Prüfung zu bestehen\, in der Schule eine schwere  Mathearbeit zu schreiben oder später im Beruf erfolgreich zu sein. \r\nAllkampf mit Taekwondo kombiniert\, so wie es bei uns trainiert wird ist eine super Ergänzung für Körper und Geist.\r\n\r\nLiebe Eltern\,\r\n\r\nihr Kind möchte bestimmt gerne im Allkampf einmal im Ferienprogramm mittrainieren. Ein Vorhaben\, das Sie zukünftig auch voll unterstützen können\, denn unser Allkampf fordert den Menschen körperlich und geistig. Ihr Kind lernt Körperbeherrschung und Disziplin. Es lernt\, sich auf eine Sache zu konzentrieren\, sein Selbstvertrauen wird gestärkt\, und die organische Gesundheit verbessert sich.\r\n\r\nÜbrigens - um einem weitverbreiteten Klischee vorzubeugen: Allkampf ist kein sogenannter „Haudrauf-Sport“\, sondern eine anerkannte Sportart in der Bewegungslehre und Selbstverteidigung. Der Ruf des Kampfsports ist durch die Medien leider arg in Mitleidenschaft gezogen worden. Szenen wie es sie im Fernseher und im Kino immer wieder zu sehen gibt\, sind absolut irreal und durch geschickte Kameraführung\, Special-Effects und Schnittechnik entstanden. Außerdem ist das alles andere als Allkampf\, was dort gezeigt wird.\r\n\r\nTraditioneller Allkampf\, so wie es hier und in den meisten Schulen gelehrt wird\, ist äußerst seriös. Das Brauchtum ist eher etwas konservativ\, orientiert sich an den Erfahrungen alter Meister und lehrt Werte\, die in der heutigen Gesellschaft leider immer mehr verloren gehen.\r\n\r\nEs ist verständlich\, daß ein Allkampfsportler\, der seine Graduierungen mit viel Fleiß\, Willensstärke\, Geduld und natürlich durch jahrelanges Training\, erworben hat\, sich von diesen Erscheinungen distanziert.\r\n
URL;VALUE=URI:https://www.unser-ferienprogramm.de/dillingen_donau/veranstaltung.php?id=238
SUMMARY:Allkampf (4 x Donnerstag)
DTSTART;TZID=Europe/Berlin:20250904T180000
END:VEVENT


BEGIN:VEVENT
DTEND;TZID=Europe/Berlin:20250911T190000
UID:69e5fce4dbeb83
DTSTAMP:20260420T121604
LOCATION:Donauwörther Straße 3
DESCRIPTION:„Was ist eigentlich Allkampf?“ werdet Ihr Euch vielleicht fragen.\r\nTrainiert erst einmal aufmerksam und konzentriert mit\; dann werden sich viele eurer Fragen von alleine beantworten.\r\n\r\nAllkampf ist mehr als eine Sportart\, denn es fordert Euch nicht nur körperlich\, sondern auch geistig heraus. Es lehrt Euch\, schnell zu reagieren und eine Sache konzentriert und mit vollem Einsatz zu Ende zu bringen.\r\nDas bedeutet: Wenn Ihr etwas wollt\, dann könnt Ihr das auch erreichen.\r\nDabei ist es gleichgültig\, ob es darum geht\, eine Prüfung zu bestehen\, in der Schule eine schwere  Mathearbeit zu schreiben oder später im Beruf erfolgreich zu sein. \r\nAllkampf mit Taekwondo kombiniert\, so wie es bei uns trainiert wird ist eine super Ergänzung für Körper und Geist.\r\n\r\nLiebe Eltern\,\r\n\r\nihr Kind möchte bestimmt gerne im Allkampf einmal im Ferienprogramm mittrainieren. Ein Vorhaben\, das Sie zukünftig auch voll unterstützen können\, denn unser Allkampf fordert den Menschen körperlich und geistig. Ihr Kind lernt Körperbeherrschung und Disziplin. Es lernt\, sich auf eine Sache zu konzentrieren\, sein Selbstvertrauen wird gestärkt\, und die organische Gesundheit verbessert sich.\r\n\r\nÜbrigens - um einem weitverbreiteten Klischee vorzubeugen: Allkampf ist kein sogenannter „Haudrauf-Sport“\, sondern eine anerkannte Sportart in der Bewegungslehre und Selbstverteidigung. Der Ruf des Kampfsports ist durch die Medien leider arg in Mitleidenschaft gezogen worden. Szenen wie es sie im Fernseher und im Kino immer wieder zu sehen gibt\, sind absolut irreal und durch geschickte Kameraführung\, Special-Effects und Schnittechnik entstanden. Außerdem ist das alles andere als Allkampf\, was dort gezeigt wird.\r\n\r\nTraditioneller Allkampf\, so wie es hier und in den meisten Schulen gelehrt wird\, ist äußerst seriös. Das Brauchtum ist eher etwas konservativ\, orientiert sich an den Erfahrungen alter Meister und lehrt Werte\, die in der heutigen Gesellschaft leider immer mehr verloren gehen.\r\n\r\nEs ist verständlich\, daß ein Allkampfsportler\, der seine Graduierungen mit viel Fleiß\, Willensstärke\, Geduld und natürlich durch jahrelanges Training\, erworben hat\, sich von diesen Erscheinungen distanziert.\r\n
URL;VALUE=URI:https://www.unser-ferienprogramm.de/dillingen_donau/veranstaltung.php?id=238
SUMMARY:Allkampf (4 x Donnerstag)
DTSTART;TZID=Europe/Berlin:20250911T180000
END:VEVENT

END:VCALENDAR
