BEGIN:VCALENDAR
VERSION:2.0
PRODID:-//hacksw/handcal//NONSGML v1.0//EN
CALSCALE:GREGORIAN
BEGIN:VTIMEZONE
TZID:Europe/Berlin
X-LIC-LOCATION:Europe/Berlin
BEGIN:DAYLIGHT
TZOFFSETFROM:+0100
TZOFFSETTO:+0200
TZNAME:CEST
DTSTART:19700329T020000
RRULE:FREQ=YEARLY;BYDAY=-1SU;BYMONTH=3
END:DAYLIGHT
BEGIN:STANDARD
TZOFFSETFROM:+0200
TZOFFSETTO:+0100
TZNAME:CET
DTSTART:19701025T030000
RRULE:FREQ=YEARLY;BYDAY=-1SU;BYMONTH=10
END:STANDARD
END:VTIMEZONE
BEGIN:VEVENT
DTEND;TZID=Europe/Berlin:20250806T183000
UID:69e6148123231
DTSTAMP:20260420T135649
LOCATION:Donauwörther Straße 3
DESCRIPTION:„Was ist eigentlich Taekwondo?“ werdet Ihr Euch vielleicht fragen.\r\n\r\nEs werden mit Spaß und Freude die Grundregeln des Lebens vermittelt und trainiert.\r\nDisziplin\, Respekt\, Aufmerksamkeit\, Kontrolle\, Mut\, Höflichkeit und Durchhaltevermögen.\r\n\r\nTaekwondo hat sich nicht nur zum Gesundheitssport entwickelt\, sondern auch zum Sport für die\r\nganze Familie\, denn es fordert Euch nicht nur körperlich\, sondern auch geistig heraus. Eine\r\nKampfkunst die das Leben positiv verändert. Es lehrt euch\, schnell zu reagieren und eine Sache\r\nkonzentriert und mit vollem Einsatz zu Ende zu bringen. Das bedeutet: Wenn ihr etwas wollt\, dann\r\nkönnt ihr das auch erreichen. Dabei ist es gleichgültig\, ob es darum geht\, eine Prüfung zu bestehen\,\r\nin der Schule eine schwere Mathearbeit zu schreiben oder später im Beruf erfolgreich zu sein.\r\n\r\nDurch Verhaltenstraining könnt ihr mit gezielten Techniken sicherer werden und dadurch\r\nSelbstbewusstsein erlangen. Durch eine Vielzahl von diagonalen Bewegungen werden beide\r\nGehirnhälften aktiviert\, dies ist wiederum gut für Schule und Beruf und bringt zugleich Zufriedenheit\r\nfür den ganzen Körper.\r\n\r\nDas Motto: Mit Spaß\, Taekwondo und Allkampf in den Ferien\, fit in die nächste Runde.\r\n\r\nIch freue mich\, dass Ihr den Mut habt\, das erste Training zu besuchen.
URL;VALUE=URI:https://www.unser-ferienprogramm.de/dillingen_donau/veranstaltung.php?id=237
SUMMARY:Taekwondo (4 x Mittwoch)
DTSTART;TZID=Europe/Berlin:20250806T173000
END:VEVENT


BEGIN:VEVENT
DTEND;TZID=Europe/Berlin:20250827T183000
UID:69e61481232521
DTSTAMP:20260420T135649
LOCATION:Donauwörther Straße 3
DESCRIPTION:„Was ist eigentlich Taekwondo?“ werdet Ihr Euch vielleicht fragen.\r\n\r\nEs werden mit Spaß und Freude die Grundregeln des Lebens vermittelt und trainiert.\r\nDisziplin\, Respekt\, Aufmerksamkeit\, Kontrolle\, Mut\, Höflichkeit und Durchhaltevermögen.\r\n\r\nTaekwondo hat sich nicht nur zum Gesundheitssport entwickelt\, sondern auch zum Sport für die\r\nganze Familie\, denn es fordert Euch nicht nur körperlich\, sondern auch geistig heraus. Eine\r\nKampfkunst die das Leben positiv verändert. Es lehrt euch\, schnell zu reagieren und eine Sache\r\nkonzentriert und mit vollem Einsatz zu Ende zu bringen. Das bedeutet: Wenn ihr etwas wollt\, dann\r\nkönnt ihr das auch erreichen. Dabei ist es gleichgültig\, ob es darum geht\, eine Prüfung zu bestehen\,\r\nin der Schule eine schwere Mathearbeit zu schreiben oder später im Beruf erfolgreich zu sein.\r\n\r\nDurch Verhaltenstraining könnt ihr mit gezielten Techniken sicherer werden und dadurch\r\nSelbstbewusstsein erlangen. Durch eine Vielzahl von diagonalen Bewegungen werden beide\r\nGehirnhälften aktiviert\, dies ist wiederum gut für Schule und Beruf und bringt zugleich Zufriedenheit\r\nfür den ganzen Körper.\r\n\r\nDas Motto: Mit Spaß\, Taekwondo und Allkampf in den Ferien\, fit in die nächste Runde.\r\n\r\nIch freue mich\, dass Ihr den Mut habt\, das erste Training zu besuchen.
URL;VALUE=URI:https://www.unser-ferienprogramm.de/dillingen_donau/veranstaltung.php?id=237
SUMMARY:Taekwondo (4 x Mittwoch)
DTSTART;TZID=Europe/Berlin:20250827T173000
END:VEVENT


BEGIN:VEVENT
DTEND;TZID=Europe/Berlin:20250903T183000
UID:69e61481232652
DTSTAMP:20260420T135649
LOCATION:Donauwörther Straße 3
DESCRIPTION:„Was ist eigentlich Taekwondo?“ werdet Ihr Euch vielleicht fragen.\r\n\r\nEs werden mit Spaß und Freude die Grundregeln des Lebens vermittelt und trainiert.\r\nDisziplin\, Respekt\, Aufmerksamkeit\, Kontrolle\, Mut\, Höflichkeit und Durchhaltevermögen.\r\n\r\nTaekwondo hat sich nicht nur zum Gesundheitssport entwickelt\, sondern auch zum Sport für die\r\nganze Familie\, denn es fordert Euch nicht nur körperlich\, sondern auch geistig heraus. Eine\r\nKampfkunst die das Leben positiv verändert. Es lehrt euch\, schnell zu reagieren und eine Sache\r\nkonzentriert und mit vollem Einsatz zu Ende zu bringen. Das bedeutet: Wenn ihr etwas wollt\, dann\r\nkönnt ihr das auch erreichen. Dabei ist es gleichgültig\, ob es darum geht\, eine Prüfung zu bestehen\,\r\nin der Schule eine schwere Mathearbeit zu schreiben oder später im Beruf erfolgreich zu sein.\r\n\r\nDurch Verhaltenstraining könnt ihr mit gezielten Techniken sicherer werden und dadurch\r\nSelbstbewusstsein erlangen. Durch eine Vielzahl von diagonalen Bewegungen werden beide\r\nGehirnhälften aktiviert\, dies ist wiederum gut für Schule und Beruf und bringt zugleich Zufriedenheit\r\nfür den ganzen Körper.\r\n\r\nDas Motto: Mit Spaß\, Taekwondo und Allkampf in den Ferien\, fit in die nächste Runde.\r\n\r\nIch freue mich\, dass Ihr den Mut habt\, das erste Training zu besuchen.
URL;VALUE=URI:https://www.unser-ferienprogramm.de/dillingen_donau/veranstaltung.php?id=237
SUMMARY:Taekwondo (4 x Mittwoch)
DTSTART;TZID=Europe/Berlin:20250903T173000
END:VEVENT


BEGIN:VEVENT
DTEND;TZID=Europe/Berlin:20250910T183000
UID:69e61481232763
DTSTAMP:20260420T135649
LOCATION:Donauwörther Straße 3
DESCRIPTION:„Was ist eigentlich Taekwondo?“ werdet Ihr Euch vielleicht fragen.\r\n\r\nEs werden mit Spaß und Freude die Grundregeln des Lebens vermittelt und trainiert.\r\nDisziplin\, Respekt\, Aufmerksamkeit\, Kontrolle\, Mut\, Höflichkeit und Durchhaltevermögen.\r\n\r\nTaekwondo hat sich nicht nur zum Gesundheitssport entwickelt\, sondern auch zum Sport für die\r\nganze Familie\, denn es fordert Euch nicht nur körperlich\, sondern auch geistig heraus. Eine\r\nKampfkunst die das Leben positiv verändert. Es lehrt euch\, schnell zu reagieren und eine Sache\r\nkonzentriert und mit vollem Einsatz zu Ende zu bringen. Das bedeutet: Wenn ihr etwas wollt\, dann\r\nkönnt ihr das auch erreichen. Dabei ist es gleichgültig\, ob es darum geht\, eine Prüfung zu bestehen\,\r\nin der Schule eine schwere Mathearbeit zu schreiben oder später im Beruf erfolgreich zu sein.\r\n\r\nDurch Verhaltenstraining könnt ihr mit gezielten Techniken sicherer werden und dadurch\r\nSelbstbewusstsein erlangen. Durch eine Vielzahl von diagonalen Bewegungen werden beide\r\nGehirnhälften aktiviert\, dies ist wiederum gut für Schule und Beruf und bringt zugleich Zufriedenheit\r\nfür den ganzen Körper.\r\n\r\nDas Motto: Mit Spaß\, Taekwondo und Allkampf in den Ferien\, fit in die nächste Runde.\r\n\r\nIch freue mich\, dass Ihr den Mut habt\, das erste Training zu besuchen.
URL;VALUE=URI:https://www.unser-ferienprogramm.de/dillingen_donau/veranstaltung.php?id=237
SUMMARY:Taekwondo (4 x Mittwoch)
DTSTART;TZID=Europe/Berlin:20250910T173000
END:VEVENT

END:VCALENDAR
