BEGIN:VCALENDAR
VERSION:2.0
PRODID:-//hacksw/handcal//NONSGML v1.0//EN
CALSCALE:GREGORIAN
BEGIN:VTIMEZONE
TZID:Europe/Berlin
X-LIC-LOCATION:Europe/Berlin
BEGIN:DAYLIGHT
TZOFFSETFROM:+0100
TZOFFSETTO:+0200
TZNAME:CEST
DTSTART:19700329T020000
RRULE:FREQ=YEARLY;BYDAY=-1SU;BYMONTH=3
END:DAYLIGHT
BEGIN:STANDARD
TZOFFSETFROM:+0200
TZOFFSETTO:+0100
TZNAME:CET
DTSTART:19701025T030000
RRULE:FREQ=YEARLY;BYDAY=-1SU;BYMONTH=10
END:STANDARD
END:VTIMEZONE
BEGIN:VEVENT
DTEND;TZID=Europe/Berlin:20250806T110000
UID:69e610594ac0c
DTSTAMP:20260420T133905
LOCATION:Taverne zum Griechen
DESCRIPTION:Aktive Mitglieder und Ligaspieler des Dartclubs Steinheim führen Euch spielerisch in die Grundtechniken\, den Ablauf und die Regeln des Dartspiels ein.\r\nIn Einzel- und Gruppenspielen könnt Ihr erste Erfahrungen sammeln und verschiedene Wurftechniken ausprobieren.\r\n\r\nVorkenntnisse oder eine Ausrüstung sind nicht erforderlich.\r\nDartpfeile werden zur Verfügung gestellt.\r\n\r\nGetränke können vor Ort gekauft werden.\r\n\r\n\r\n
URL;VALUE=URI:https://www.unser-ferienprogramm.de/dillingen_donau/veranstaltung.php?id=19215
SUMMARY:Dart spielen 1
DTSTART;TZID=Europe/Berlin:20250806T090000
END:VEVENT

END:VCALENDAR
