BEGIN:VCALENDAR
VERSION:2.0
PRODID:-//hacksw/handcal//NONSGML v1.0//EN
CALSCALE:GREGORIAN
BEGIN:VTIMEZONE
TZID:Europe/Berlin
X-LIC-LOCATION:Europe/Berlin
BEGIN:DAYLIGHT
TZOFFSETFROM:+0100
TZOFFSETTO:+0200
TZNAME:CEST
DTSTART:19700329T020000
RRULE:FREQ=YEARLY;BYDAY=-1SU;BYMONTH=3
END:DAYLIGHT
BEGIN:STANDARD
TZOFFSETFROM:+0200
TZOFFSETTO:+0100
TZNAME:CET
DTSTART:19701025T030000
RRULE:FREQ=YEARLY;BYDAY=-1SU;BYMONTH=10
END:STANDARD
END:VTIMEZONE
BEGIN:VEVENT
DTEND;TZID=Europe/Berlin:20250814T180000
UID:69e611cb0858d
DTSTAMP:20260420T134515
LOCATION:Sportplatz Donaualtheim
DESCRIPTION:Ferienfeeling und reichlich Fußball auf dem Sportplatz des SVD.\r\nSnacks und Getränke sorgen für ausreichend Energie.\r\nKoordination-\, Technik-\, sowie Torschuss-Stationen\, Spiel\, Spaß und jede Menge gute Laune unter der Leitung von qualifizierten Trainern.
URL;VALUE=URI:https://www.unser-ferienprogramm.de/dillingen_donau/veranstaltung.php?id=167796
SUMMARY:Fußball-Ferien beim SV Donaualtheim 2
DTSTART;TZID=Europe/Berlin:20250814T163000
END:VEVENT

END:VCALENDAR
