BEGIN:VCALENDAR
VERSION:2.0
PRODID:-//hacksw/handcal//NONSGML v1.0//EN
CALSCALE:GREGORIAN
BEGIN:VTIMEZONE
TZID:Europe/Berlin
X-LIC-LOCATION:Europe/Berlin
BEGIN:DAYLIGHT
TZOFFSETFROM:+0100
TZOFFSETTO:+0200
TZNAME:CEST
DTSTART:19700329T020000
RRULE:FREQ=YEARLY;BYDAY=-1SU;BYMONTH=3
END:DAYLIGHT
BEGIN:STANDARD
TZOFFSETFROM:+0200
TZOFFSETTO:+0100
TZNAME:CET
DTSTART:19701025T030000
RRULE:FREQ=YEARLY;BYDAY=-1SU;BYMONTH=10
END:STANDARD
END:VTIMEZONE
BEGIN:VEVENT
DTEND;TZID=Europe/Berlin:20260629T130000
UID:69e62828bbfa3
DTSTAMP:20260420T152040
LOCATION:Weidigschule Butzbach
DESCRIPTION:Vielfältiges Programm:\r\nDie Ferienspiele bieten zahlreiche Aktivitäten wie sportliche Angebote\, Bastelarbeiten\, Musizieren\, Wanderungen\, Besichtigungen\, Schwimmen und vieles mehr. Die einzelnen Aktionen werden altersgerecht für die Kinder von 6 bis 13 Jahren gestaltet.\r\n
URL;VALUE=URI:https://www.unser-ferienprogramm.de/butzbach/veranstaltung.php?id=313946
SUMMARY: Alter: 11 Jahre Ferienspiele Butzbach Woche 1+2\, 29.06-10.07.26
DTSTART;TZID=Europe/Berlin:20260629T090000
END:VEVENT


BEGIN:VEVENT
DTEND;TZID=Europe/Berlin:20260630T130000
UID:69e62828bbfe01
DTSTAMP:20260420T152040
LOCATION:Weidigschule Butzbach
DESCRIPTION:Vielfältiges Programm:\r\nDie Ferienspiele bieten zahlreiche Aktivitäten wie sportliche Angebote\, Bastelarbeiten\, Musizieren\, Wanderungen\, Besichtigungen\, Schwimmen und vieles mehr. Die einzelnen Aktionen werden altersgerecht für die Kinder von 6 bis 13 Jahren gestaltet.\r\n
URL;VALUE=URI:https://www.unser-ferienprogramm.de/butzbach/veranstaltung.php?id=313946
SUMMARY: Alter: 11 Jahre Ferienspiele Butzbach Woche 1+2\, 29.06-10.07.26
DTSTART;TZID=Europe/Berlin:20260630T090000
END:VEVENT


BEGIN:VEVENT
DTEND;TZID=Europe/Berlin:20260701T130000
UID:69e62828bbfed2
DTSTAMP:20260420T152040
LOCATION:Weidigschule Butzbach
DESCRIPTION:Vielfältiges Programm:\r\nDie Ferienspiele bieten zahlreiche Aktivitäten wie sportliche Angebote\, Bastelarbeiten\, Musizieren\, Wanderungen\, Besichtigungen\, Schwimmen und vieles mehr. Die einzelnen Aktionen werden altersgerecht für die Kinder von 6 bis 13 Jahren gestaltet.\r\n
URL;VALUE=URI:https://www.unser-ferienprogramm.de/butzbach/veranstaltung.php?id=313946
SUMMARY: Alter: 11 Jahre Ferienspiele Butzbach Woche 1+2\, 29.06-10.07.26
DTSTART;TZID=Europe/Berlin:20260701T090000
END:VEVENT


BEGIN:VEVENT
DTEND;TZID=Europe/Berlin:20260702T130000
UID:69e62828bbff83
DTSTAMP:20260420T152040
LOCATION:Weidigschule Butzbach
DESCRIPTION:Vielfältiges Programm:\r\nDie Ferienspiele bieten zahlreiche Aktivitäten wie sportliche Angebote\, Bastelarbeiten\, Musizieren\, Wanderungen\, Besichtigungen\, Schwimmen und vieles mehr. Die einzelnen Aktionen werden altersgerecht für die Kinder von 6 bis 13 Jahren gestaltet.\r\n
URL;VALUE=URI:https://www.unser-ferienprogramm.de/butzbach/veranstaltung.php?id=313946
SUMMARY: Alter: 11 Jahre Ferienspiele Butzbach Woche 1+2\, 29.06-10.07.26
DTSTART;TZID=Europe/Berlin:20260702T090000
END:VEVENT


BEGIN:VEVENT
DTEND;TZID=Europe/Berlin:20260703T130000
UID:69e62828bc0014
DTSTAMP:20260420T152040
LOCATION:Weidigschule Butzbach
DESCRIPTION:Vielfältiges Programm:\r\nDie Ferienspiele bieten zahlreiche Aktivitäten wie sportliche Angebote\, Bastelarbeiten\, Musizieren\, Wanderungen\, Besichtigungen\, Schwimmen und vieles mehr. Die einzelnen Aktionen werden altersgerecht für die Kinder von 6 bis 13 Jahren gestaltet.\r\n
URL;VALUE=URI:https://www.unser-ferienprogramm.de/butzbach/veranstaltung.php?id=313946
SUMMARY: Alter: 11 Jahre Ferienspiele Butzbach Woche 1+2\, 29.06-10.07.26
DTSTART;TZID=Europe/Berlin:20260703T090000
END:VEVENT


BEGIN:VEVENT
DTEND;TZID=Europe/Berlin:20260706T130000
UID:69e62828bc00b5
DTSTAMP:20260420T152040
LOCATION:Weidigschule Butzbach
DESCRIPTION:Vielfältiges Programm:\r\nDie Ferienspiele bieten zahlreiche Aktivitäten wie sportliche Angebote\, Bastelarbeiten\, Musizieren\, Wanderungen\, Besichtigungen\, Schwimmen und vieles mehr. Die einzelnen Aktionen werden altersgerecht für die Kinder von 6 bis 13 Jahren gestaltet.\r\n
URL;VALUE=URI:https://www.unser-ferienprogramm.de/butzbach/veranstaltung.php?id=313946
SUMMARY: Alter: 11 Jahre Ferienspiele Butzbach Woche 1+2\, 29.06-10.07.26
DTSTART;TZID=Europe/Berlin:20260706T090000
END:VEVENT


BEGIN:VEVENT
DTEND;TZID=Europe/Berlin:20260707T130000
UID:69e62828bc0146
DTSTAMP:20260420T152040
LOCATION:Weidigschule Butzbach
DESCRIPTION:Vielfältiges Programm:\r\nDie Ferienspiele bieten zahlreiche Aktivitäten wie sportliche Angebote\, Bastelarbeiten\, Musizieren\, Wanderungen\, Besichtigungen\, Schwimmen und vieles mehr. Die einzelnen Aktionen werden altersgerecht für die Kinder von 6 bis 13 Jahren gestaltet.\r\n
URL;VALUE=URI:https://www.unser-ferienprogramm.de/butzbach/veranstaltung.php?id=313946
SUMMARY: Alter: 11 Jahre Ferienspiele Butzbach Woche 1+2\, 29.06-10.07.26
DTSTART;TZID=Europe/Berlin:20260707T090000
END:VEVENT


BEGIN:VEVENT
DTEND;TZID=Europe/Berlin:20260708T130000
UID:69e62828bc01d7
DTSTAMP:20260420T152040
LOCATION:Weidigschule Butzbach
DESCRIPTION:Vielfältiges Programm:\r\nDie Ferienspiele bieten zahlreiche Aktivitäten wie sportliche Angebote\, Bastelarbeiten\, Musizieren\, Wanderungen\, Besichtigungen\, Schwimmen und vieles mehr. Die einzelnen Aktionen werden altersgerecht für die Kinder von 6 bis 13 Jahren gestaltet.\r\n
URL;VALUE=URI:https://www.unser-ferienprogramm.de/butzbach/veranstaltung.php?id=313946
SUMMARY: Alter: 11 Jahre Ferienspiele Butzbach Woche 1+2\, 29.06-10.07.26
DTSTART;TZID=Europe/Berlin:20260708T090000
END:VEVENT


BEGIN:VEVENT
DTEND;TZID=Europe/Berlin:20260709T130000
UID:69e62828bc0268
DTSTAMP:20260420T152040
LOCATION:Weidigschule Butzbach
DESCRIPTION:Vielfältiges Programm:\r\nDie Ferienspiele bieten zahlreiche Aktivitäten wie sportliche Angebote\, Bastelarbeiten\, Musizieren\, Wanderungen\, Besichtigungen\, Schwimmen und vieles mehr. Die einzelnen Aktionen werden altersgerecht für die Kinder von 6 bis 13 Jahren gestaltet.\r\n
URL;VALUE=URI:https://www.unser-ferienprogramm.de/butzbach/veranstaltung.php?id=313946
SUMMARY: Alter: 11 Jahre Ferienspiele Butzbach Woche 1+2\, 29.06-10.07.26
DTSTART;TZID=Europe/Berlin:20260709T090000
END:VEVENT


BEGIN:VEVENT
DTEND;TZID=Europe/Berlin:20260710T130000
UID:69e62828bc02f9
DTSTAMP:20260420T152040
LOCATION:Weidigschule Butzbach
DESCRIPTION:Vielfältiges Programm:\r\nDie Ferienspiele bieten zahlreiche Aktivitäten wie sportliche Angebote\, Bastelarbeiten\, Musizieren\, Wanderungen\, Besichtigungen\, Schwimmen und vieles mehr. Die einzelnen Aktionen werden altersgerecht für die Kinder von 6 bis 13 Jahren gestaltet.\r\n
URL;VALUE=URI:https://www.unser-ferienprogramm.de/butzbach/veranstaltung.php?id=313946
SUMMARY: Alter: 11 Jahre Ferienspiele Butzbach Woche 1+2\, 29.06-10.07.26
DTSTART;TZID=Europe/Berlin:20260710T090000
END:VEVENT

END:VCALENDAR
