BEGIN:VCALENDAR
VERSION:2.0
PRODID:-//hacksw/handcal//NONSGML v1.0//EN
CALSCALE:GREGORIAN
BEGIN:VTIMEZONE
TZID:Europe/Berlin
X-LIC-LOCATION:Europe/Berlin
BEGIN:DAYLIGHT
TZOFFSETFROM:+0100
TZOFFSETTO:+0200
TZNAME:CEST
DTSTART:19700329T020000
RRULE:FREQ=YEARLY;BYDAY=-1SU;BYMONTH=3
END:DAYLIGHT
BEGIN:STANDARD
TZOFFSETFROM:+0200
TZOFFSETTO:+0100
TZNAME:CET
DTSTART:19701025T030000
RRULE:FREQ=YEARLY;BYDAY=-1SU;BYMONTH=10
END:STANDARD
END:VTIMEZONE
BEGIN:VEVENT
DTEND;TZID=Europe/Berlin:20260523T150000
UID:69e5e2cf5b7e3
DTSTAMP:20260420T102447
LOCATION:Ankersaal
DESCRIPTION:Ein Theaterspiel\, eine Rätselreise\, eine Spurensuche! Das Leipziger Figurentheater Wilde & Vogel macht sich auf Welterkundungs-Reise. Wohin geht‘s? In die Zukunft! Die ist wo? Vor unserer Nase! Wir zählen auf euch\, Menschen! Los geht’s! \r\n\r\nFigurenspiel und Live-Musik sind die künstlerischen Mittel des Theaters von Wilde & Vogel. Themen und dramatische Vorlagen der Inszenierungen sind vielfältig\, immer jedoch werden sie hinterfragt in Bezug auf die ihnen adäquaten Ausdrucksmittel und auf das Wesentliche reduziert\, um schließlich den Zuschauer*innen eigene Assoziationsspielräume jenseits des Sichtbaren zu ermöglichen. Wilde & Vogel gehören zu den renommiertesten Figurentheatergruppen. Sie sind bereits in über 30 Ländern aufgetreten und mit einer Vielzahl von Preisen ausgezeichnet worden (u.a. Stuttgarter Theaterpreis\, Grand Prix des International Puppet Theatre Festival Warschau\, George Tabori Award).
URL;VALUE=URI:https://www.unser-ferienprogramm.de/burghausen/veranstaltung.php?id=314896
SUMMARY:"ÜBERALL & UNTERALL" Figurentheater für alle ab 6 Jahren
DTSTART;TZID=Europe/Berlin:20260523T140000
END:VEVENT

END:VCALENDAR
