BEGIN:VCALENDAR
VERSION:2.0
PRODID:-//hacksw/handcal//NONSGML v1.0//EN
CALSCALE:GREGORIAN
BEGIN:VTIMEZONE
TZID:Europe/Berlin
X-LIC-LOCATION:Europe/Berlin
BEGIN:DAYLIGHT
TZOFFSETFROM:+0100
TZOFFSETTO:+0200
TZNAME:CEST
DTSTART:19700329T020000
RRULE:FREQ=YEARLY;BYDAY=-1SU;BYMONTH=3
END:DAYLIGHT
BEGIN:STANDARD
TZOFFSETFROM:+0200
TZOFFSETTO:+0100
TZNAME:CET
DTSTART:19701025T030000
RRULE:FREQ=YEARLY;BYDAY=-1SU;BYMONTH=10
END:STANDARD
END:VTIMEZONE
BEGIN:VEVENT
DTEND;TZID=Europe/Berlin:20260417T173000
UID:69e5e2d60fee3
DTSTAMP:20260420T102454
LOCATION:Bildungswerkstatt\, Haus der Familie\, Prießnitzstraße 1\, 84489 Burghausen 
DESCRIPTION:Makramee-Tasche Workshop für Erwachsene\r\nFür die Herstellung einer Tasche benötigen wir insgesamt 6 Stunden.\r\nDu kannst flexibel teilnehmen:\r\nFreitag: 1 Stunde pro Termin (6 Termine)\r\n17.04./24.04.\r\n17. 4und 24.04. von 17:30 bis 18:30 Uhr\r\n08.05./15.05./22.05. und 29.05.2026\r\nVon17:00 bis 18:00 Uhr\r\nSonntag: 2 Termine 3 Stunden\r\n19.04 und 26.04.2026:\r\nvon 14:00 bis 17:00 UhrAlle Materialien sind inklusive.\r\nBitte beachte: Die Teilnahme ist nur nach vorheriger Anmeldung möglich\, da wir die Materialien im Voraus bereitstellen müssen. Ohne Anmeldung können wir leider keinen Platz garantieren\, da uns sonst Kosten entstehen.\r\nBei Fragen kannst du dich jederzeit gerne per E-Mail oder Telefon an mich wenden
URL;VALUE=URI:https://www.unser-ferienprogramm.de/burghausen/veranstaltung.php?id=311920
SUMMARY:Makramee-Tasche Workshop für Erwachsene – Zwei Kurse Optionen: Freitags (langfristig) & Sonntags (kurzfristig)
DTSTART;TZID=Europe/Berlin:20260417T173000
END:VEVENT


BEGIN:VEVENT
DTEND;TZID=Europe/Berlin:20260419T170000
UID:69e5e2d60ff221
DTSTAMP:20260420T102454
LOCATION:Bildungswerkstatt\, Haus der Familie\, Prießnitzstraße 1\, 84489 Burghausen 
DESCRIPTION:Makramee-Tasche Workshop für Erwachsene\r\nFür die Herstellung einer Tasche benötigen wir insgesamt 6 Stunden.\r\nDu kannst flexibel teilnehmen:\r\nFreitag: 1 Stunde pro Termin (6 Termine)\r\n17.04./24.04.\r\n17. 4und 24.04. von 17:30 bis 18:30 Uhr\r\n08.05./15.05./22.05. und 29.05.2026\r\nVon17:00 bis 18:00 Uhr\r\nSonntag: 2 Termine 3 Stunden\r\n19.04 und 26.04.2026:\r\nvon 14:00 bis 17:00 UhrAlle Materialien sind inklusive.\r\nBitte beachte: Die Teilnahme ist nur nach vorheriger Anmeldung möglich\, da wir die Materialien im Voraus bereitstellen müssen. Ohne Anmeldung können wir leider keinen Platz garantieren\, da uns sonst Kosten entstehen.\r\nBei Fragen kannst du dich jederzeit gerne per E-Mail oder Telefon an mich wenden
URL;VALUE=URI:https://www.unser-ferienprogramm.de/burghausen/veranstaltung.php?id=311920
SUMMARY:Makramee-Tasche Workshop für Erwachsene – Zwei Kurse Optionen: Freitags (langfristig) & Sonntags (kurzfristig)
DTSTART;TZID=Europe/Berlin:20260419T140000
END:VEVENT


BEGIN:VEVENT
DTEND;TZID=Europe/Berlin:20260424T183000
UID:69e5e2d60ff342
DTSTAMP:20260420T102454
LOCATION:Bildungswerkstatt\, Haus der Familie\, Prießnitzstraße 1\, 84489 Burghausen 
DESCRIPTION:Makramee-Tasche Workshop für Erwachsene\r\nFür die Herstellung einer Tasche benötigen wir insgesamt 6 Stunden.\r\nDu kannst flexibel teilnehmen:\r\nFreitag: 1 Stunde pro Termin (6 Termine)\r\n17.04./24.04.\r\n17. 4und 24.04. von 17:30 bis 18:30 Uhr\r\n08.05./15.05./22.05. und 29.05.2026\r\nVon17:00 bis 18:00 Uhr\r\nSonntag: 2 Termine 3 Stunden\r\n19.04 und 26.04.2026:\r\nvon 14:00 bis 17:00 UhrAlle Materialien sind inklusive.\r\nBitte beachte: Die Teilnahme ist nur nach vorheriger Anmeldung möglich\, da wir die Materialien im Voraus bereitstellen müssen. Ohne Anmeldung können wir leider keinen Platz garantieren\, da uns sonst Kosten entstehen.\r\nBei Fragen kannst du dich jederzeit gerne per E-Mail oder Telefon an mich wenden
URL;VALUE=URI:https://www.unser-ferienprogramm.de/burghausen/veranstaltung.php?id=311920
SUMMARY:Makramee-Tasche Workshop für Erwachsene – Zwei Kurse Optionen: Freitags (langfristig) & Sonntags (kurzfristig)
DTSTART;TZID=Europe/Berlin:20260424T173000
END:VEVENT


BEGIN:VEVENT
DTEND;TZID=Europe/Berlin:20260426T170000
UID:69e5e2d60ff423
DTSTAMP:20260420T102454
LOCATION:Bildungswerkstatt\, Haus der Familie\, Prießnitzstraße 1\, 84489 Burghausen 
DESCRIPTION:Makramee-Tasche Workshop für Erwachsene\r\nFür die Herstellung einer Tasche benötigen wir insgesamt 6 Stunden.\r\nDu kannst flexibel teilnehmen:\r\nFreitag: 1 Stunde pro Termin (6 Termine)\r\n17.04./24.04.\r\n17. 4und 24.04. von 17:30 bis 18:30 Uhr\r\n08.05./15.05./22.05. und 29.05.2026\r\nVon17:00 bis 18:00 Uhr\r\nSonntag: 2 Termine 3 Stunden\r\n19.04 und 26.04.2026:\r\nvon 14:00 bis 17:00 UhrAlle Materialien sind inklusive.\r\nBitte beachte: Die Teilnahme ist nur nach vorheriger Anmeldung möglich\, da wir die Materialien im Voraus bereitstellen müssen. Ohne Anmeldung können wir leider keinen Platz garantieren\, da uns sonst Kosten entstehen.\r\nBei Fragen kannst du dich jederzeit gerne per E-Mail oder Telefon an mich wenden
URL;VALUE=URI:https://www.unser-ferienprogramm.de/burghausen/veranstaltung.php?id=311920
SUMMARY:Makramee-Tasche Workshop für Erwachsene – Zwei Kurse Optionen: Freitags (langfristig) & Sonntags (kurzfristig)
DTSTART;TZID=Europe/Berlin:20260426T140000
END:VEVENT


BEGIN:VEVENT
DTEND;TZID=Europe/Berlin:20260508T180000
UID:69e5e2d60ff4f4
DTSTAMP:20260420T102454
LOCATION:Bildungswerkstatt\, Haus der Familie\, Prießnitzstraße 1\, 84489 Burghausen 
DESCRIPTION:Makramee-Tasche Workshop für Erwachsene\r\nFür die Herstellung einer Tasche benötigen wir insgesamt 6 Stunden.\r\nDu kannst flexibel teilnehmen:\r\nFreitag: 1 Stunde pro Termin (6 Termine)\r\n17.04./24.04.\r\n17. 4und 24.04. von 17:30 bis 18:30 Uhr\r\n08.05./15.05./22.05. und 29.05.2026\r\nVon17:00 bis 18:00 Uhr\r\nSonntag: 2 Termine 3 Stunden\r\n19.04 und 26.04.2026:\r\nvon 14:00 bis 17:00 UhrAlle Materialien sind inklusive.\r\nBitte beachte: Die Teilnahme ist nur nach vorheriger Anmeldung möglich\, da wir die Materialien im Voraus bereitstellen müssen. Ohne Anmeldung können wir leider keinen Platz garantieren\, da uns sonst Kosten entstehen.\r\nBei Fragen kannst du dich jederzeit gerne per E-Mail oder Telefon an mich wenden
URL;VALUE=URI:https://www.unser-ferienprogramm.de/burghausen/veranstaltung.php?id=311920
SUMMARY:Makramee-Tasche Workshop für Erwachsene – Zwei Kurse Optionen: Freitags (langfristig) & Sonntags (kurzfristig)
DTSTART;TZID=Europe/Berlin:20260508T170000
END:VEVENT


BEGIN:VEVENT
DTEND;TZID=Europe/Berlin:20260515T180000
UID:69e5e2d60ff5c5
DTSTAMP:20260420T102454
LOCATION:Bildungswerkstatt\, Haus der Familie\, Prießnitzstraße 1\, 84489 Burghausen 
DESCRIPTION:Makramee-Tasche Workshop für Erwachsene\r\nFür die Herstellung einer Tasche benötigen wir insgesamt 6 Stunden.\r\nDu kannst flexibel teilnehmen:\r\nFreitag: 1 Stunde pro Termin (6 Termine)\r\n17.04./24.04.\r\n17. 4und 24.04. von 17:30 bis 18:30 Uhr\r\n08.05./15.05./22.05. und 29.05.2026\r\nVon17:00 bis 18:00 Uhr\r\nSonntag: 2 Termine 3 Stunden\r\n19.04 und 26.04.2026:\r\nvon 14:00 bis 17:00 UhrAlle Materialien sind inklusive.\r\nBitte beachte: Die Teilnahme ist nur nach vorheriger Anmeldung möglich\, da wir die Materialien im Voraus bereitstellen müssen. Ohne Anmeldung können wir leider keinen Platz garantieren\, da uns sonst Kosten entstehen.\r\nBei Fragen kannst du dich jederzeit gerne per E-Mail oder Telefon an mich wenden
URL;VALUE=URI:https://www.unser-ferienprogramm.de/burghausen/veranstaltung.php?id=311920
SUMMARY:Makramee-Tasche Workshop für Erwachsene – Zwei Kurse Optionen: Freitags (langfristig) & Sonntags (kurzfristig)
DTSTART;TZID=Europe/Berlin:20260515T170000
END:VEVENT


BEGIN:VEVENT
DTEND;TZID=Europe/Berlin:20260522T180000
UID:69e5e2d60ff6b6
DTSTAMP:20260420T102454
LOCATION:Bildungswerkstatt\, Haus der Familie\, Prießnitzstraße 1\, 84489 Burghausen 
DESCRIPTION:Makramee-Tasche Workshop für Erwachsene\r\nFür die Herstellung einer Tasche benötigen wir insgesamt 6 Stunden.\r\nDu kannst flexibel teilnehmen:\r\nFreitag: 1 Stunde pro Termin (6 Termine)\r\n17.04./24.04.\r\n17. 4und 24.04. von 17:30 bis 18:30 Uhr\r\n08.05./15.05./22.05. und 29.05.2026\r\nVon17:00 bis 18:00 Uhr\r\nSonntag: 2 Termine 3 Stunden\r\n19.04 und 26.04.2026:\r\nvon 14:00 bis 17:00 UhrAlle Materialien sind inklusive.\r\nBitte beachte: Die Teilnahme ist nur nach vorheriger Anmeldung möglich\, da wir die Materialien im Voraus bereitstellen müssen. Ohne Anmeldung können wir leider keinen Platz garantieren\, da uns sonst Kosten entstehen.\r\nBei Fragen kannst du dich jederzeit gerne per E-Mail oder Telefon an mich wenden
URL;VALUE=URI:https://www.unser-ferienprogramm.de/burghausen/veranstaltung.php?id=311920
SUMMARY:Makramee-Tasche Workshop für Erwachsene – Zwei Kurse Optionen: Freitags (langfristig) & Sonntags (kurzfristig)
DTSTART;TZID=Europe/Berlin:20260522T170000
END:VEVENT


BEGIN:VEVENT
DTEND;TZID=Europe/Berlin:20260529T180000
UID:69e5e2d60ff787
DTSTAMP:20260420T102454
LOCATION:Bildungswerkstatt\, Haus der Familie\, Prießnitzstraße 1\, 84489 Burghausen 
DESCRIPTION:Makramee-Tasche Workshop für Erwachsene\r\nFür die Herstellung einer Tasche benötigen wir insgesamt 6 Stunden.\r\nDu kannst flexibel teilnehmen:\r\nFreitag: 1 Stunde pro Termin (6 Termine)\r\n17.04./24.04.\r\n17. 4und 24.04. von 17:30 bis 18:30 Uhr\r\n08.05./15.05./22.05. und 29.05.2026\r\nVon17:00 bis 18:00 Uhr\r\nSonntag: 2 Termine 3 Stunden\r\n19.04 und 26.04.2026:\r\nvon 14:00 bis 17:00 UhrAlle Materialien sind inklusive.\r\nBitte beachte: Die Teilnahme ist nur nach vorheriger Anmeldung möglich\, da wir die Materialien im Voraus bereitstellen müssen. Ohne Anmeldung können wir leider keinen Platz garantieren\, da uns sonst Kosten entstehen.\r\nBei Fragen kannst du dich jederzeit gerne per E-Mail oder Telefon an mich wenden
URL;VALUE=URI:https://www.unser-ferienprogramm.de/burghausen/veranstaltung.php?id=311920
SUMMARY:Makramee-Tasche Workshop für Erwachsene – Zwei Kurse Optionen: Freitags (langfristig) & Sonntags (kurzfristig)
DTSTART;TZID=Europe/Berlin:20260529T170000
END:VEVENT

END:VCALENDAR
