BEGIN:VCALENDAR
VERSION:2.0
PRODID:-//hacksw/handcal//NONSGML v1.0//EN
CALSCALE:GREGORIAN
BEGIN:VTIMEZONE
TZID:Europe/Berlin
X-LIC-LOCATION:Europe/Berlin
BEGIN:DAYLIGHT
TZOFFSETFROM:+0100
TZOFFSETTO:+0200
TZNAME:CEST
DTSTART:19700329T020000
RRULE:FREQ=YEARLY;BYDAY=-1SU;BYMONTH=3
END:DAYLIGHT
BEGIN:STANDARD
TZOFFSETFROM:+0200
TZOFFSETTO:+0100
TZNAME:CET
DTSTART:19701025T030000
RRULE:FREQ=YEARLY;BYDAY=-1SU;BYMONTH=10
END:STANDARD
END:VTIMEZONE
BEGIN:VEVENT
DTEND;TZID=Europe/Berlin:20260424T173000
UID:69e5e2f430dbd
DTSTAMP:20260420T102524
LOCATION:Bildungswerkstatt\, Haus der Familie\, Prießnitzstraße 1\,84489 Burghausen .
DESCRIPTION:Mach deinen Liebsten eine ganz besondere Freude zum Mutter- und Vatertag mit einem handgemachten Geschenk! In diesem kreativen Workshop gestalten wir individuelle Schmuckstücke und Accessoires mit viel Liebe zum Detail:\r\nMuttertagsgeschenk: 17.04.2026 | 16:30–17:30 Uhr\r\nWir gestalten „Pearl in a Nest" Ohrstecker. 10€\r\nVatertagsgeschenk: 24.04.2026 | 16:30–17:30 Uhr\r\nWir machen ein verstellbares Paracord-Armband .10€\r\n Für Kinder von 8–13 Jahren (Mädchen & Jungen)\r\nKosten: 10 € pro Kind\r\n✨ Materialien inklusive\r\nIn kreativer und entspannter Atmosphäre entstehen einzigartige Geschenke von Herzen!\r\nJetzt anmelden – die Plätze sind begrenzt!
URL;VALUE=URI:https://www.unser-ferienprogramm.de/burghausen/veranstaltung.php?id=311919
SUMMARY:Selbstgemachtes Vatertagsgeschenk: Paracord-Armband
DTSTART;TZID=Europe/Berlin:20260424T163000
END:VEVENT

END:VCALENDAR
