BEGIN:VCALENDAR
VERSION:2.0
PRODID:-//hacksw/handcal//NONSGML v1.0//EN
CALSCALE:GREGORIAN
BEGIN:VTIMEZONE
TZID:Europe/Berlin
X-LIC-LOCATION:Europe/Berlin
BEGIN:DAYLIGHT
TZOFFSETFROM:+0100
TZOFFSETTO:+0200
TZNAME:CEST
DTSTART:19700329T020000
RRULE:FREQ=YEARLY;BYDAY=-1SU;BYMONTH=3
END:DAYLIGHT
BEGIN:STANDARD
TZOFFSETFROM:+0200
TZOFFSETTO:+0100
TZNAME:CET
DTSTART:19701025T030000
RRULE:FREQ=YEARLY;BYDAY=-1SU;BYMONTH=10
END:STANDARD
END:VTIMEZONE
BEGIN:VEVENT
DTEND;TZID=Europe/Berlin:20260203T183000
UID:69e6296d877cc
DTSTAMP:20260420T152605
LOCATION:Stollberg 76 in Fronhausen
DESCRIPTION:Offener Treff im Jugendraum Fronhausen\r\nJeden Dienstag von 15:30–18:30 Uhr\r\n\r\nIm Jugendraum Fronhausen wartet ein ganz besonderes Angebot auf euch! Neben vielen Spielen\, kreativen Aktionen und gemeinsamen Kochrunden gibt es hier ein echtes Highlight: unseren Raum für Schwarzlicht-Tischtennis – das müsst ihr unbedingt ausprobieren!\r\n\r\nBei gutem Wetter könnt ihr draußen in den Liegestühlen entspannen und einfach mit Freund*innen chillen.\r\n\r\nBesonders wichtig: Wir gestalten das Programm gemeinsam mit euch! Eure Ideen\, Wünsche und Meinungen zählen\, denn der Jugendraum lebt davon\, dass ihr ihn mitgestaltet. \r\n\r\nUnd wenn euch Themen beschäftigen oder ihr etwas auf dem Herzen habt – wir sind für euch da und hören zu.\r\n\r\nKommt vorbei\, macht mit\, habt Spaß – wir freuen uns auf euch!\r\nSophia und Lisa
URL;VALUE=URI:https://www.unser-ferienprogramm.de/bsj-marburg/veranstaltung.php?id=303635
SUMMARY:Offener Treff im Jugendclub Fronhausen
DTSTART;TZID=Europe/Berlin:20260203T153000
END:VEVENT


BEGIN:VEVENT
DTEND;TZID=Europe/Berlin:20260210T183000
UID:69e6296d878131
DTSTAMP:20260420T152605
LOCATION:Stollberg 76 in Fronhausen
DESCRIPTION:Offener Treff im Jugendraum Fronhausen\r\nJeden Dienstag von 15:30–18:30 Uhr\r\n\r\nIm Jugendraum Fronhausen wartet ein ganz besonderes Angebot auf euch! Neben vielen Spielen\, kreativen Aktionen und gemeinsamen Kochrunden gibt es hier ein echtes Highlight: unseren Raum für Schwarzlicht-Tischtennis – das müsst ihr unbedingt ausprobieren!\r\n\r\nBei gutem Wetter könnt ihr draußen in den Liegestühlen entspannen und einfach mit Freund*innen chillen.\r\n\r\nBesonders wichtig: Wir gestalten das Programm gemeinsam mit euch! Eure Ideen\, Wünsche und Meinungen zählen\, denn der Jugendraum lebt davon\, dass ihr ihn mitgestaltet. \r\n\r\nUnd wenn euch Themen beschäftigen oder ihr etwas auf dem Herzen habt – wir sind für euch da und hören zu.\r\n\r\nKommt vorbei\, macht mit\, habt Spaß – wir freuen uns auf euch!\r\nSophia und Lisa
URL;VALUE=URI:https://www.unser-ferienprogramm.de/bsj-marburg/veranstaltung.php?id=303635
SUMMARY:Offener Treff im Jugendclub Fronhausen
DTSTART;TZID=Europe/Berlin:20260210T153000
END:VEVENT


BEGIN:VEVENT
DTEND;TZID=Europe/Berlin:20260217T183000
UID:69e6296d878242
DTSTAMP:20260420T152605
LOCATION:Stollberg 76 in Fronhausen
DESCRIPTION:Offener Treff im Jugendraum Fronhausen\r\nJeden Dienstag von 15:30–18:30 Uhr\r\n\r\nIm Jugendraum Fronhausen wartet ein ganz besonderes Angebot auf euch! Neben vielen Spielen\, kreativen Aktionen und gemeinsamen Kochrunden gibt es hier ein echtes Highlight: unseren Raum für Schwarzlicht-Tischtennis – das müsst ihr unbedingt ausprobieren!\r\n\r\nBei gutem Wetter könnt ihr draußen in den Liegestühlen entspannen und einfach mit Freund*innen chillen.\r\n\r\nBesonders wichtig: Wir gestalten das Programm gemeinsam mit euch! Eure Ideen\, Wünsche und Meinungen zählen\, denn der Jugendraum lebt davon\, dass ihr ihn mitgestaltet. \r\n\r\nUnd wenn euch Themen beschäftigen oder ihr etwas auf dem Herzen habt – wir sind für euch da und hören zu.\r\n\r\nKommt vorbei\, macht mit\, habt Spaß – wir freuen uns auf euch!\r\nSophia und Lisa
URL;VALUE=URI:https://www.unser-ferienprogramm.de/bsj-marburg/veranstaltung.php?id=303635
SUMMARY:Offener Treff im Jugendclub Fronhausen
DTSTART;TZID=Europe/Berlin:20260217T153000
END:VEVENT


BEGIN:VEVENT
DTEND;TZID=Europe/Berlin:20260224T183000
UID:69e6296d878323
DTSTAMP:20260420T152605
LOCATION:Stollberg 76 in Fronhausen
DESCRIPTION:Offener Treff im Jugendraum Fronhausen\r\nJeden Dienstag von 15:30–18:30 Uhr\r\n\r\nIm Jugendraum Fronhausen wartet ein ganz besonderes Angebot auf euch! Neben vielen Spielen\, kreativen Aktionen und gemeinsamen Kochrunden gibt es hier ein echtes Highlight: unseren Raum für Schwarzlicht-Tischtennis – das müsst ihr unbedingt ausprobieren!\r\n\r\nBei gutem Wetter könnt ihr draußen in den Liegestühlen entspannen und einfach mit Freund*innen chillen.\r\n\r\nBesonders wichtig: Wir gestalten das Programm gemeinsam mit euch! Eure Ideen\, Wünsche und Meinungen zählen\, denn der Jugendraum lebt davon\, dass ihr ihn mitgestaltet. \r\n\r\nUnd wenn euch Themen beschäftigen oder ihr etwas auf dem Herzen habt – wir sind für euch da und hören zu.\r\n\r\nKommt vorbei\, macht mit\, habt Spaß – wir freuen uns auf euch!\r\nSophia und Lisa
URL;VALUE=URI:https://www.unser-ferienprogramm.de/bsj-marburg/veranstaltung.php?id=303635
SUMMARY:Offener Treff im Jugendclub Fronhausen
DTSTART;TZID=Europe/Berlin:20260224T153000
END:VEVENT


BEGIN:VEVENT
DTEND;TZID=Europe/Berlin:20260303T183000
UID:69e6296d8783f4
DTSTAMP:20260420T152605
LOCATION:Stollberg 76 in Fronhausen
DESCRIPTION:Offener Treff im Jugendraum Fronhausen\r\nJeden Dienstag von 15:30–18:30 Uhr\r\n\r\nIm Jugendraum Fronhausen wartet ein ganz besonderes Angebot auf euch! Neben vielen Spielen\, kreativen Aktionen und gemeinsamen Kochrunden gibt es hier ein echtes Highlight: unseren Raum für Schwarzlicht-Tischtennis – das müsst ihr unbedingt ausprobieren!\r\n\r\nBei gutem Wetter könnt ihr draußen in den Liegestühlen entspannen und einfach mit Freund*innen chillen.\r\n\r\nBesonders wichtig: Wir gestalten das Programm gemeinsam mit euch! Eure Ideen\, Wünsche und Meinungen zählen\, denn der Jugendraum lebt davon\, dass ihr ihn mitgestaltet. \r\n\r\nUnd wenn euch Themen beschäftigen oder ihr etwas auf dem Herzen habt – wir sind für euch da und hören zu.\r\n\r\nKommt vorbei\, macht mit\, habt Spaß – wir freuen uns auf euch!\r\nSophia und Lisa
URL;VALUE=URI:https://www.unser-ferienprogramm.de/bsj-marburg/veranstaltung.php?id=303635
SUMMARY:Offener Treff im Jugendclub Fronhausen
DTSTART;TZID=Europe/Berlin:20260303T153000
END:VEVENT


BEGIN:VEVENT
DTEND;TZID=Europe/Berlin:20260310T183000
UID:69e6296d8784c5
DTSTAMP:20260420T152605
LOCATION:Stollberg 76 in Fronhausen
DESCRIPTION:Offener Treff im Jugendraum Fronhausen\r\nJeden Dienstag von 15:30–18:30 Uhr\r\n\r\nIm Jugendraum Fronhausen wartet ein ganz besonderes Angebot auf euch! Neben vielen Spielen\, kreativen Aktionen und gemeinsamen Kochrunden gibt es hier ein echtes Highlight: unseren Raum für Schwarzlicht-Tischtennis – das müsst ihr unbedingt ausprobieren!\r\n\r\nBei gutem Wetter könnt ihr draußen in den Liegestühlen entspannen und einfach mit Freund*innen chillen.\r\n\r\nBesonders wichtig: Wir gestalten das Programm gemeinsam mit euch! Eure Ideen\, Wünsche und Meinungen zählen\, denn der Jugendraum lebt davon\, dass ihr ihn mitgestaltet. \r\n\r\nUnd wenn euch Themen beschäftigen oder ihr etwas auf dem Herzen habt – wir sind für euch da und hören zu.\r\n\r\nKommt vorbei\, macht mit\, habt Spaß – wir freuen uns auf euch!\r\nSophia und Lisa
URL;VALUE=URI:https://www.unser-ferienprogramm.de/bsj-marburg/veranstaltung.php?id=303635
SUMMARY:Offener Treff im Jugendclub Fronhausen
DTSTART;TZID=Europe/Berlin:20260310T153000
END:VEVENT


BEGIN:VEVENT
DTEND;TZID=Europe/Berlin:20260317T183000
UID:69e6296d878596
DTSTAMP:20260420T152605
LOCATION:Stollberg 76 in Fronhausen
DESCRIPTION:Offener Treff im Jugendraum Fronhausen\r\nJeden Dienstag von 15:30–18:30 Uhr\r\n\r\nIm Jugendraum Fronhausen wartet ein ganz besonderes Angebot auf euch! Neben vielen Spielen\, kreativen Aktionen und gemeinsamen Kochrunden gibt es hier ein echtes Highlight: unseren Raum für Schwarzlicht-Tischtennis – das müsst ihr unbedingt ausprobieren!\r\n\r\nBei gutem Wetter könnt ihr draußen in den Liegestühlen entspannen und einfach mit Freund*innen chillen.\r\n\r\nBesonders wichtig: Wir gestalten das Programm gemeinsam mit euch! Eure Ideen\, Wünsche und Meinungen zählen\, denn der Jugendraum lebt davon\, dass ihr ihn mitgestaltet. \r\n\r\nUnd wenn euch Themen beschäftigen oder ihr etwas auf dem Herzen habt – wir sind für euch da und hören zu.\r\n\r\nKommt vorbei\, macht mit\, habt Spaß – wir freuen uns auf euch!\r\nSophia und Lisa
URL;VALUE=URI:https://www.unser-ferienprogramm.de/bsj-marburg/veranstaltung.php?id=303635
SUMMARY:Offener Treff im Jugendclub Fronhausen
DTSTART;TZID=Europe/Berlin:20260317T153000
END:VEVENT


BEGIN:VEVENT
DTEND;TZID=Europe/Berlin:20260324T183000
UID:69e6296d878667
DTSTAMP:20260420T152605
LOCATION:Stollberg 76 in Fronhausen
DESCRIPTION:Offener Treff im Jugendraum Fronhausen\r\nJeden Dienstag von 15:30–18:30 Uhr\r\n\r\nIm Jugendraum Fronhausen wartet ein ganz besonderes Angebot auf euch! Neben vielen Spielen\, kreativen Aktionen und gemeinsamen Kochrunden gibt es hier ein echtes Highlight: unseren Raum für Schwarzlicht-Tischtennis – das müsst ihr unbedingt ausprobieren!\r\n\r\nBei gutem Wetter könnt ihr draußen in den Liegestühlen entspannen und einfach mit Freund*innen chillen.\r\n\r\nBesonders wichtig: Wir gestalten das Programm gemeinsam mit euch! Eure Ideen\, Wünsche und Meinungen zählen\, denn der Jugendraum lebt davon\, dass ihr ihn mitgestaltet. \r\n\r\nUnd wenn euch Themen beschäftigen oder ihr etwas auf dem Herzen habt – wir sind für euch da und hören zu.\r\n\r\nKommt vorbei\, macht mit\, habt Spaß – wir freuen uns auf euch!\r\nSophia und Lisa
URL;VALUE=URI:https://www.unser-ferienprogramm.de/bsj-marburg/veranstaltung.php?id=303635
SUMMARY:Offener Treff im Jugendclub Fronhausen
DTSTART;TZID=Europe/Berlin:20260324T153000
END:VEVENT


BEGIN:VEVENT
DTEND;TZID=Europe/Berlin:20260414T183000
UID:69e6296d878748
DTSTAMP:20260420T152605
LOCATION:Stollberg 76 in Fronhausen
DESCRIPTION:Offener Treff im Jugendraum Fronhausen\r\nJeden Dienstag von 15:30–18:30 Uhr\r\n\r\nIm Jugendraum Fronhausen wartet ein ganz besonderes Angebot auf euch! Neben vielen Spielen\, kreativen Aktionen und gemeinsamen Kochrunden gibt es hier ein echtes Highlight: unseren Raum für Schwarzlicht-Tischtennis – das müsst ihr unbedingt ausprobieren!\r\n\r\nBei gutem Wetter könnt ihr draußen in den Liegestühlen entspannen und einfach mit Freund*innen chillen.\r\n\r\nBesonders wichtig: Wir gestalten das Programm gemeinsam mit euch! Eure Ideen\, Wünsche und Meinungen zählen\, denn der Jugendraum lebt davon\, dass ihr ihn mitgestaltet. \r\n\r\nUnd wenn euch Themen beschäftigen oder ihr etwas auf dem Herzen habt – wir sind für euch da und hören zu.\r\n\r\nKommt vorbei\, macht mit\, habt Spaß – wir freuen uns auf euch!\r\nSophia und Lisa
URL;VALUE=URI:https://www.unser-ferienprogramm.de/bsj-marburg/veranstaltung.php?id=303635
SUMMARY:Offener Treff im Jugendclub Fronhausen
DTSTART;TZID=Europe/Berlin:20260414T153000
END:VEVENT


BEGIN:VEVENT
DTEND;TZID=Europe/Berlin:20260421T183000
UID:69e6296d878819
DTSTAMP:20260420T152605
LOCATION:Stollberg 76 in Fronhausen
DESCRIPTION:Offener Treff im Jugendraum Fronhausen\r\nJeden Dienstag von 15:30–18:30 Uhr\r\n\r\nIm Jugendraum Fronhausen wartet ein ganz besonderes Angebot auf euch! Neben vielen Spielen\, kreativen Aktionen und gemeinsamen Kochrunden gibt es hier ein echtes Highlight: unseren Raum für Schwarzlicht-Tischtennis – das müsst ihr unbedingt ausprobieren!\r\n\r\nBei gutem Wetter könnt ihr draußen in den Liegestühlen entspannen und einfach mit Freund*innen chillen.\r\n\r\nBesonders wichtig: Wir gestalten das Programm gemeinsam mit euch! Eure Ideen\, Wünsche und Meinungen zählen\, denn der Jugendraum lebt davon\, dass ihr ihn mitgestaltet. \r\n\r\nUnd wenn euch Themen beschäftigen oder ihr etwas auf dem Herzen habt – wir sind für euch da und hören zu.\r\n\r\nKommt vorbei\, macht mit\, habt Spaß – wir freuen uns auf euch!\r\nSophia und Lisa
URL;VALUE=URI:https://www.unser-ferienprogramm.de/bsj-marburg/veranstaltung.php?id=303635
SUMMARY:Offener Treff im Jugendclub Fronhausen
DTSTART;TZID=Europe/Berlin:20260421T153000
END:VEVENT


BEGIN:VEVENT
DTEND;TZID=Europe/Berlin:20260428T183000
UID:69e6296d8788d10
DTSTAMP:20260420T152605
LOCATION:Stollberg 76 in Fronhausen
DESCRIPTION:Offener Treff im Jugendraum Fronhausen\r\nJeden Dienstag von 15:30–18:30 Uhr\r\n\r\nIm Jugendraum Fronhausen wartet ein ganz besonderes Angebot auf euch! Neben vielen Spielen\, kreativen Aktionen und gemeinsamen Kochrunden gibt es hier ein echtes Highlight: unseren Raum für Schwarzlicht-Tischtennis – das müsst ihr unbedingt ausprobieren!\r\n\r\nBei gutem Wetter könnt ihr draußen in den Liegestühlen entspannen und einfach mit Freund*innen chillen.\r\n\r\nBesonders wichtig: Wir gestalten das Programm gemeinsam mit euch! Eure Ideen\, Wünsche und Meinungen zählen\, denn der Jugendraum lebt davon\, dass ihr ihn mitgestaltet. \r\n\r\nUnd wenn euch Themen beschäftigen oder ihr etwas auf dem Herzen habt – wir sind für euch da und hören zu.\r\n\r\nKommt vorbei\, macht mit\, habt Spaß – wir freuen uns auf euch!\r\nSophia und Lisa
URL;VALUE=URI:https://www.unser-ferienprogramm.de/bsj-marburg/veranstaltung.php?id=303635
SUMMARY:Offener Treff im Jugendclub Fronhausen
DTSTART;TZID=Europe/Berlin:20260428T153000
END:VEVENT


BEGIN:VEVENT
DTEND;TZID=Europe/Berlin:20260505T183000
UID:69e6296d8789a11
DTSTAMP:20260420T152605
LOCATION:Stollberg 76 in Fronhausen
DESCRIPTION:Offener Treff im Jugendraum Fronhausen\r\nJeden Dienstag von 15:30–18:30 Uhr\r\n\r\nIm Jugendraum Fronhausen wartet ein ganz besonderes Angebot auf euch! Neben vielen Spielen\, kreativen Aktionen und gemeinsamen Kochrunden gibt es hier ein echtes Highlight: unseren Raum für Schwarzlicht-Tischtennis – das müsst ihr unbedingt ausprobieren!\r\n\r\nBei gutem Wetter könnt ihr draußen in den Liegestühlen entspannen und einfach mit Freund*innen chillen.\r\n\r\nBesonders wichtig: Wir gestalten das Programm gemeinsam mit euch! Eure Ideen\, Wünsche und Meinungen zählen\, denn der Jugendraum lebt davon\, dass ihr ihn mitgestaltet. \r\n\r\nUnd wenn euch Themen beschäftigen oder ihr etwas auf dem Herzen habt – wir sind für euch da und hören zu.\r\n\r\nKommt vorbei\, macht mit\, habt Spaß – wir freuen uns auf euch!\r\nSophia und Lisa
URL;VALUE=URI:https://www.unser-ferienprogramm.de/bsj-marburg/veranstaltung.php?id=303635
SUMMARY:Offener Treff im Jugendclub Fronhausen
DTSTART;TZID=Europe/Berlin:20260505T153000
END:VEVENT


BEGIN:VEVENT
DTEND;TZID=Europe/Berlin:20260512T183000
UID:69e6296d878a712
DTSTAMP:20260420T152605
LOCATION:Stollberg 76 in Fronhausen
DESCRIPTION:Offener Treff im Jugendraum Fronhausen\r\nJeden Dienstag von 15:30–18:30 Uhr\r\n\r\nIm Jugendraum Fronhausen wartet ein ganz besonderes Angebot auf euch! Neben vielen Spielen\, kreativen Aktionen und gemeinsamen Kochrunden gibt es hier ein echtes Highlight: unseren Raum für Schwarzlicht-Tischtennis – das müsst ihr unbedingt ausprobieren!\r\n\r\nBei gutem Wetter könnt ihr draußen in den Liegestühlen entspannen und einfach mit Freund*innen chillen.\r\n\r\nBesonders wichtig: Wir gestalten das Programm gemeinsam mit euch! Eure Ideen\, Wünsche und Meinungen zählen\, denn der Jugendraum lebt davon\, dass ihr ihn mitgestaltet. \r\n\r\nUnd wenn euch Themen beschäftigen oder ihr etwas auf dem Herzen habt – wir sind für euch da und hören zu.\r\n\r\nKommt vorbei\, macht mit\, habt Spaß – wir freuen uns auf euch!\r\nSophia und Lisa
URL;VALUE=URI:https://www.unser-ferienprogramm.de/bsj-marburg/veranstaltung.php?id=303635
SUMMARY:Offener Treff im Jugendclub Fronhausen
DTSTART;TZID=Europe/Berlin:20260512T153000
END:VEVENT


BEGIN:VEVENT
DTEND;TZID=Europe/Berlin:20260519T183000
UID:69e6296d878b313
DTSTAMP:20260420T152605
LOCATION:Stollberg 76 in Fronhausen
DESCRIPTION:Offener Treff im Jugendraum Fronhausen\r\nJeden Dienstag von 15:30–18:30 Uhr\r\n\r\nIm Jugendraum Fronhausen wartet ein ganz besonderes Angebot auf euch! Neben vielen Spielen\, kreativen Aktionen und gemeinsamen Kochrunden gibt es hier ein echtes Highlight: unseren Raum für Schwarzlicht-Tischtennis – das müsst ihr unbedingt ausprobieren!\r\n\r\nBei gutem Wetter könnt ihr draußen in den Liegestühlen entspannen und einfach mit Freund*innen chillen.\r\n\r\nBesonders wichtig: Wir gestalten das Programm gemeinsam mit euch! Eure Ideen\, Wünsche und Meinungen zählen\, denn der Jugendraum lebt davon\, dass ihr ihn mitgestaltet. \r\n\r\nUnd wenn euch Themen beschäftigen oder ihr etwas auf dem Herzen habt – wir sind für euch da und hören zu.\r\n\r\nKommt vorbei\, macht mit\, habt Spaß – wir freuen uns auf euch!\r\nSophia und Lisa
URL;VALUE=URI:https://www.unser-ferienprogramm.de/bsj-marburg/veranstaltung.php?id=303635
SUMMARY:Offener Treff im Jugendclub Fronhausen
DTSTART;TZID=Europe/Berlin:20260519T153000
END:VEVENT


BEGIN:VEVENT
DTEND;TZID=Europe/Berlin:20260526T183000
UID:69e6296d878c014
DTSTAMP:20260420T152605
LOCATION:Stollberg 76 in Fronhausen
DESCRIPTION:Offener Treff im Jugendraum Fronhausen\r\nJeden Dienstag von 15:30–18:30 Uhr\r\n\r\nIm Jugendraum Fronhausen wartet ein ganz besonderes Angebot auf euch! Neben vielen Spielen\, kreativen Aktionen und gemeinsamen Kochrunden gibt es hier ein echtes Highlight: unseren Raum für Schwarzlicht-Tischtennis – das müsst ihr unbedingt ausprobieren!\r\n\r\nBei gutem Wetter könnt ihr draußen in den Liegestühlen entspannen und einfach mit Freund*innen chillen.\r\n\r\nBesonders wichtig: Wir gestalten das Programm gemeinsam mit euch! Eure Ideen\, Wünsche und Meinungen zählen\, denn der Jugendraum lebt davon\, dass ihr ihn mitgestaltet. \r\n\r\nUnd wenn euch Themen beschäftigen oder ihr etwas auf dem Herzen habt – wir sind für euch da und hören zu.\r\n\r\nKommt vorbei\, macht mit\, habt Spaß – wir freuen uns auf euch!\r\nSophia und Lisa
URL;VALUE=URI:https://www.unser-ferienprogramm.de/bsj-marburg/veranstaltung.php?id=303635
SUMMARY:Offener Treff im Jugendclub Fronhausen
DTSTART;TZID=Europe/Berlin:20260526T153000
END:VEVENT


BEGIN:VEVENT
DTEND;TZID=Europe/Berlin:20260602T183000
UID:69e6296d878cc15
DTSTAMP:20260420T152605
LOCATION:Stollberg 76 in Fronhausen
DESCRIPTION:Offener Treff im Jugendraum Fronhausen\r\nJeden Dienstag von 15:30–18:30 Uhr\r\n\r\nIm Jugendraum Fronhausen wartet ein ganz besonderes Angebot auf euch! Neben vielen Spielen\, kreativen Aktionen und gemeinsamen Kochrunden gibt es hier ein echtes Highlight: unseren Raum für Schwarzlicht-Tischtennis – das müsst ihr unbedingt ausprobieren!\r\n\r\nBei gutem Wetter könnt ihr draußen in den Liegestühlen entspannen und einfach mit Freund*innen chillen.\r\n\r\nBesonders wichtig: Wir gestalten das Programm gemeinsam mit euch! Eure Ideen\, Wünsche und Meinungen zählen\, denn der Jugendraum lebt davon\, dass ihr ihn mitgestaltet. \r\n\r\nUnd wenn euch Themen beschäftigen oder ihr etwas auf dem Herzen habt – wir sind für euch da und hören zu.\r\n\r\nKommt vorbei\, macht mit\, habt Spaß – wir freuen uns auf euch!\r\nSophia und Lisa
URL;VALUE=URI:https://www.unser-ferienprogramm.de/bsj-marburg/veranstaltung.php?id=303635
SUMMARY:Offener Treff im Jugendclub Fronhausen
DTSTART;TZID=Europe/Berlin:20260602T153000
END:VEVENT

END:VCALENDAR
