BEGIN:VCALENDAR
VERSION:2.0
PRODID:-//hacksw/handcal//NONSGML v1.0//EN
CALSCALE:GREGORIAN
BEGIN:VTIMEZONE
TZID:Europe/Berlin
X-LIC-LOCATION:Europe/Berlin
BEGIN:DAYLIGHT
TZOFFSETFROM:+0100
TZOFFSETTO:+0200
TZNAME:CEST
DTSTART:19700329T020000
RRULE:FREQ=YEARLY;BYDAY=-1SU;BYMONTH=3
END:DAYLIGHT
BEGIN:STANDARD
TZOFFSETFROM:+0200
TZOFFSETTO:+0100
TZNAME:CET
DTSTART:19701025T030000
RRULE:FREQ=YEARLY;BYDAY=-1SU;BYMONTH=10
END:STANDARD
END:VTIMEZONE
BEGIN:VEVENT
DTEND;TZID=Europe/Berlin:20260107T190000
UID:69e65795ce3a8
DTSTAMP:20260420T184301
LOCATION:
DESCRIPTION:Rauf aufs Eis und los geht’s! Gemeinsam mit Jugendlichen aus Fronhausen fahren wir nach Frankfurt auf eine große Eisbahn\, auf der Anfängerinnen und Profis gleichermaßen Spaß haben. Ob entspannt Runden drehen\, neue Tricks ausprobieren oder mit Freundinnen über das Eis gleiten – hier ist Action\, Bewegung und gute Laune garantiert. Egal ob du zum ersten Mal auf Schlittschuhen stehst oder schon sicher unterwegs bist: Schlittschuhlaufen ist der perfekte Winterspaß!\r\nWir starten um 11:00Uhr am Jugendhaus mit einem kleinen Bus und bringen euch abends wieder nach Hause.\r\nWir freuen uns auf euch!\r\nHanna und Lisa
URL;VALUE=URI:https://www.unser-ferienprogramm.de/bsj-marburg/veranstaltung.php?id=297452
SUMMARY:Ausflug: Schlittschuhlaufen Frankfurt
DTSTART;TZID=Europe/Berlin:20260107T110000
END:VEVENT

END:VCALENDAR
