BEGIN:VCALENDAR
VERSION:2.0
PRODID:-//hacksw/handcal//NONSGML v1.0//EN
CALSCALE:GREGORIAN
BEGIN:VTIMEZONE
TZID:Europe/Berlin
X-LIC-LOCATION:Europe/Berlin
BEGIN:DAYLIGHT
TZOFFSETFROM:+0100
TZOFFSETTO:+0200
TZNAME:CEST
DTSTART:19700329T020000
RRULE:FREQ=YEARLY;BYDAY=-1SU;BYMONTH=3
END:DAYLIGHT
BEGIN:STANDARD
TZOFFSETFROM:+0200
TZOFFSETTO:+0100
TZNAME:CET
DTSTART:19701025T030000
RRULE:FREQ=YEARLY;BYDAY=-1SU;BYMONTH=10
END:STANDARD
END:VTIMEZONE
BEGIN:VEVENT
DTEND;TZID=Europe/Berlin:20260106T180000
UID:69e6577559e97
DTSTAMP:20260420T184229
LOCATION:
DESCRIPTION:Lust auf ein Ferienerlebnis der besonderen Art? \r\nDann komm mit uns zum Sandbox VR nach Alsfeld! \r\nDort setzen wir echte VR-Brillen auf und tauchen gemeinsam in virtuelle Welten ein. Ihr seid mitten im Spiel und erlebt alles hautnah\, als wärt ihr selbst Teil der digitalen Welt. \r\nZusammen im Team wird gezockt\, gelacht und jede Menge Action erlebt. Ein unvergessliches Ferienhighlight für alle\, die Gaming lieben!\r\nWir starten um 13:00Uhr am Jugendhaus mit einem kleinen Bus Richtung Alsfeld und bringen euch abend wieder nach Hause.\r\nWir freuen uns auf euch!\r\nBenny und Hanna\r\n\r\nHier noch ein kleiner Vorgeschmack zu unserem Spiel:\r\nhttps://www.youtube.com/watch?v=ZXxf_-14ABU
URL;VALUE=URI:https://www.unser-ferienprogramm.de/bsj-marburg/veranstaltung.php?id=297449
SUMMARY:Ausflug: Sandbox VR Alsfeld
DTSTART;TZID=Europe/Berlin:20260106T130000
END:VEVENT

END:VCALENDAR
