BEGIN:VCALENDAR
VERSION:2.0
PRODID:-//hacksw/handcal//NONSGML v1.0//EN
CALSCALE:GREGORIAN
BEGIN:VTIMEZONE
TZID:Europe/Berlin
X-LIC-LOCATION:Europe/Berlin
BEGIN:DAYLIGHT
TZOFFSETFROM:+0100
TZOFFSETTO:+0200
TZNAME:CEST
DTSTART:19700329T020000
RRULE:FREQ=YEARLY;BYDAY=-1SU;BYMONTH=3
END:DAYLIGHT
BEGIN:STANDARD
TZOFFSETFROM:+0200
TZOFFSETTO:+0100
TZNAME:CET
DTSTART:19701025T030000
RRULE:FREQ=YEARLY;BYDAY=-1SU;BYMONTH=10
END:STANDARD
END:VTIMEZONE
BEGIN:VEVENT
DTEND;TZID=Europe/Berlin:20251208T190000
UID:69e6575123064
DTSTAMP:20260420T184153
LOCATION:Jugendraum Fronhausen
DESCRIPTION:Wir wollen DEINE Stimme hören!\r\nAm 8. Dezember um 16 Uhr findet unsere Jugendsprechstunde mit „Frag die Bürgermeisterin“ statt – und DU bist herzlich eingeladen!\r\n\r\nWas fehlt deiner Meinung nach in Fronhausen?\r\nWas gefällt dir an unserem Ort besonders gut?\r\nWelche Themen sind dir wichtig?\r\nUnd vor allem: Wo soll der neue Jugendraum entstehen – und wie stellst du ihn dir vor?\r\n\r\nKomm vorbei\, sag uns deine Meinung und gestalte die Zukunft von Fronhausen aktiv mit.\r\nDeine Ideen zählen!\r\n\r\nSolltest du schon Fragen oder Ideen haben\, dann schreib uns gerne im Vorfeld!\r\n
URL;VALUE=URI:https://www.unser-ferienprogramm.de/bsj-marburg/veranstaltung.php?id=295684
SUMMARY:Jugendsprechstunde mit „Frag die Bürgermeisterin“
DTSTART;TZID=Europe/Berlin:20251208T160000
END:VEVENT

END:VCALENDAR
