BEGIN:VCALENDAR
VERSION:2.0
PRODID:-//hacksw/handcal//NONSGML v1.0//EN
CALSCALE:GREGORIAN
BEGIN:VTIMEZONE
TZID:Europe/Berlin
X-LIC-LOCATION:Europe/Berlin
BEGIN:DAYLIGHT
TZOFFSETFROM:+0100
TZOFFSETTO:+0200
TZNAME:CEST
DTSTART:19700329T020000
RRULE:FREQ=YEARLY;BYDAY=-1SU;BYMONTH=3
END:DAYLIGHT
BEGIN:STANDARD
TZOFFSETFROM:+0200
TZOFFSETTO:+0100
TZNAME:CET
DTSTART:19701025T030000
RRULE:FREQ=YEARLY;BYDAY=-1SU;BYMONTH=10
END:STANDARD
END:VTIMEZONE
BEGIN:VEVENT
DTEND;TZID=Europe/Berlin:20251010T150000
UID:69e657764a058
DTSTAMP:20260420T184230
LOCATION:Darmstadt
DESCRIPTION:In den Herbstferien geht es auf eine reine Mädchen*freizeit mit Sophia und Lisa.\r\nDiese Freizeit ist ein besonderer Raum nur für euch – zum Entspannen\, Ausprobieren\, Lachen\, Reden und einfach mal ihr selbst sein. Ohne Druck\, ohne Erwartungen – dafür mit ganz viel Gemeinschaft\, Kreativität und Spaß.\r\nGemeinsam wollen wir eine tolle Zeit verbringen\, neue Dinge erleben und uns gegenseitig stärken. Egal\, ob ihr eher ruhig oder wild\, sportlich oder kreativ seid – jede ist willkommen!\r\n\r\nWir fahren nach Darmstadt in ein Selbstversorgerhaus\, das heißt ihr könnt selbst mitbestimmen\, wann und was wir essen wollen und wie wir die Zeit vor Ort gestalten. Natürlich haben wir schon einige Ideen\, aber uns ist wichtig\, dass ihr mitbestimmen könnt.\r\n\r\nWenn ihr schon Wünsche oder Ideen habt kommt gerne auf uns zu.\r\n\r\nWir freuen uns schon\r\nSophia und Lisa
URL;VALUE=URI:https://www.unser-ferienprogramm.de/bsj-marburg/veranstaltung.php?id=266320
SUMMARY:Herbstfreizeit nur für Mädchen*
DTSTART;TZID=Europe/Berlin:20251006T130000
END:VEVENT

END:VCALENDAR
