BEGIN:VCALENDAR
VERSION:2.0
PRODID:-//hacksw/handcal//NONSGML v1.0//EN
CALSCALE:GREGORIAN
BEGIN:VTIMEZONE
TZID:Europe/Berlin
X-LIC-LOCATION:Europe/Berlin
BEGIN:DAYLIGHT
TZOFFSETFROM:+0100
TZOFFSETTO:+0200
TZNAME:CEST
DTSTART:19700329T020000
RRULE:FREQ=YEARLY;BYDAY=-1SU;BYMONTH=3
END:DAYLIGHT
BEGIN:STANDARD
TZOFFSETFROM:+0200
TZOFFSETTO:+0100
TZNAME:CET
DTSTART:19701025T030000
RRULE:FREQ=YEARLY;BYDAY=-1SU;BYMONTH=10
END:STANDARD
END:VTIMEZONE
BEGIN:VEVENT
DTEND;TZID=Europe/Berlin:20260410T150000
UID:69e65c2260ae0
DTSTAMP:20260420T190226
LOCATION:Marktbücherei Bruck i.d.OPf.
DESCRIPTION:Am Freitag\, den 10. April 2026\, um 15:00 Uhr lädt die Marktbücherei Bruck i.d.OPf. alle Kinder ab 4 Jahren herzlich zu einer fröhlichen Vorlesestunde ein. \r\n\r\nPassend zur Osterzeit wird ein lustiges und buntes Bilderbuch vorgelesen\, das kleine Zuhörerinnen und Zuhörer in eine frühlingshafte Geschichte mitnimmt.\r\n\r\nKommt vorbei\, hört zu\, lacht mit – und stimmt euch gemeinsam mit uns auf Ostern ein!\r\n\r\nWir freuen uns auf viele neugierige kleine Bücherfreunde!
URL;VALUE=URI:https://www.unser-ferienprogramm.de/bruck/veranstaltung.php?id=309323
SUMMARY:Vorlesestunde in der Marktbücherei Bruck i.d.OPf.
DTSTART;TZID=Europe/Berlin:20260410T150000
END:VEVENT

END:VCALENDAR
