BEGIN:VCALENDAR
VERSION:2.0
PRODID:-//hacksw/handcal//NONSGML v1.0//EN
CALSCALE:GREGORIAN
BEGIN:VTIMEZONE
TZID:Europe/Berlin
X-LIC-LOCATION:Europe/Berlin
BEGIN:DAYLIGHT
TZOFFSETFROM:+0100
TZOFFSETTO:+0200
TZNAME:CEST
DTSTART:19700329T020000
RRULE:FREQ=YEARLY;BYDAY=-1SU;BYMONTH=3
END:DAYLIGHT
BEGIN:STANDARD
TZOFFSETFROM:+0200
TZOFFSETTO:+0100
TZNAME:CET
DTSTART:19701025T030000
RRULE:FREQ=YEARLY;BYDAY=-1SU;BYMONTH=10
END:STANDARD
END:VTIMEZONE
BEGIN:VEVENT
DTEND;TZID=Europe/Berlin:20260402T160000
UID:69e65cca3cd7a
DTSTAMP:20260420T190514
LOCATION:Marktbücherei Bruck i.d.OPf.
DESCRIPTION:Hereinspaziert\, liebe Kinder!\r\n\r\nDer Kasperl kommt wieder zu Besuch in die Marktbücherei Bruck i.d.OPf. und bringt ein neues\, lustiges Abenteuer mit. Freut euch auf ein fröhliches und spannendes Kasperltheater\, das Kinder zum Lachen\, Staunen und Mitfiebern einlädt.\r\n\r\nDas Theaterstück eignet sich besonders für Kinder ab 3 Jahren\, die Freude am Zuhören und Mitmachen haben. In einer halben Stunde voller kleiner Überraschungen erleben die Kinder eine liebevoll erzählte Geschichte – ideal für junge Theaterfans und alle\, die in die bunte Welt des Kasperls eintauchen möchten.\r\n\r\nAltersempfehlung: ab 3 Jahren\r\nDauer: 30 Minuten\r\nEintritt: 2\,00 €\r\n\r\nKommt vorbei und erlebt eine zauberhafte Vorführung\, die Kinderaugen zum Leuchten bringt!
URL;VALUE=URI:https://www.unser-ferienprogramm.de/bruck/veranstaltung.php?id=309320
SUMMARY:Kasperltheater in der Marktbücherei Bruck i.d.OPf.
DTSTART;TZID=Europe/Berlin:20260402T153000
END:VEVENT

END:VCALENDAR
