BEGIN:VCALENDAR
VERSION:2.0
PRODID:-//hacksw/handcal//NONSGML v1.0//EN
CALSCALE:GREGORIAN
BEGIN:VTIMEZONE
TZID:Europe/Berlin
X-LIC-LOCATION:Europe/Berlin
BEGIN:DAYLIGHT
TZOFFSETFROM:+0100
TZOFFSETTO:+0200
TZNAME:CEST
DTSTART:19700329T020000
RRULE:FREQ=YEARLY;BYDAY=-1SU;BYMONTH=3
END:DAYLIGHT
BEGIN:STANDARD
TZOFFSETFROM:+0200
TZOFFSETTO:+0100
TZNAME:CET
DTSTART:19701025T030000
RRULE:FREQ=YEARLY;BYDAY=-1SU;BYMONTH=10
END:STANDARD
END:VTIMEZONE
BEGIN:VEVENT
DTEND;TZID=Europe/Berlin:20260803T153000
UID:69ecf9af1f260
DTSTAMP:20260425T192815
LOCATION:GTS Breisach
DESCRIPTION:Lust auf coole Ferien? Beim Sommercamp kannst du basteln\, Sport machen oder bei Ausflügen Neues entdecken. Triff andere Kinder\, probier verschiedene Aktivitäten aus und gestalte deine Ferientage so\, wie sie dir gefallen. Egal ob kreativ\, aktiv oder neugierig – hier ist für alle etwas dabei!
URL;VALUE=URI:https://www.unser-ferienprogramm.de/breisach/veranstaltung.php?id=316907
SUMMARY:Sommercamp Woche 1 - Gemischtes Programm - 5. bis 7. Klasse
DTSTART;TZID=Europe/Berlin:20260803T083000
END:VEVENT


BEGIN:VEVENT
DTEND;TZID=Europe/Berlin:20260804T153000
UID:69ecf9af1f2771
DTSTAMP:20260425T192815
LOCATION:GTS Breisach
DESCRIPTION:Lust auf coole Ferien? Beim Sommercamp kannst du basteln\, Sport machen oder bei Ausflügen Neues entdecken. Triff andere Kinder\, probier verschiedene Aktivitäten aus und gestalte deine Ferientage so\, wie sie dir gefallen. Egal ob kreativ\, aktiv oder neugierig – hier ist für alle etwas dabei!
URL;VALUE=URI:https://www.unser-ferienprogramm.de/breisach/veranstaltung.php?id=316907
SUMMARY:Sommercamp Woche 1 - Gemischtes Programm - 5. bis 7. Klasse
DTSTART;TZID=Europe/Berlin:20260804T083000
END:VEVENT


BEGIN:VEVENT
DTEND;TZID=Europe/Berlin:20260805T153000
UID:69ecf9af1f2832
DTSTAMP:20260425T192815
LOCATION:GTS Breisach
DESCRIPTION:Lust auf coole Ferien? Beim Sommercamp kannst du basteln\, Sport machen oder bei Ausflügen Neues entdecken. Triff andere Kinder\, probier verschiedene Aktivitäten aus und gestalte deine Ferientage so\, wie sie dir gefallen. Egal ob kreativ\, aktiv oder neugierig – hier ist für alle etwas dabei!
URL;VALUE=URI:https://www.unser-ferienprogramm.de/breisach/veranstaltung.php?id=316907
SUMMARY:Sommercamp Woche 1 - Gemischtes Programm - 5. bis 7. Klasse
DTSTART;TZID=Europe/Berlin:20260805T083000
END:VEVENT


BEGIN:VEVENT
DTEND;TZID=Europe/Berlin:20260806T153000
UID:69ecf9af1f28d3
DTSTAMP:20260425T192815
LOCATION:GTS Breisach
DESCRIPTION:Lust auf coole Ferien? Beim Sommercamp kannst du basteln\, Sport machen oder bei Ausflügen Neues entdecken. Triff andere Kinder\, probier verschiedene Aktivitäten aus und gestalte deine Ferientage so\, wie sie dir gefallen. Egal ob kreativ\, aktiv oder neugierig – hier ist für alle etwas dabei!
URL;VALUE=URI:https://www.unser-ferienprogramm.de/breisach/veranstaltung.php?id=316907
SUMMARY:Sommercamp Woche 1 - Gemischtes Programm - 5. bis 7. Klasse
DTSTART;TZID=Europe/Berlin:20260806T083000
END:VEVENT


BEGIN:VEVENT
DTEND;TZID=Europe/Berlin:20260807T153000
UID:69ecf9af1f2974
DTSTAMP:20260425T192815
LOCATION:GTS Breisach
DESCRIPTION:Lust auf coole Ferien? Beim Sommercamp kannst du basteln\, Sport machen oder bei Ausflügen Neues entdecken. Triff andere Kinder\, probier verschiedene Aktivitäten aus und gestalte deine Ferientage so\, wie sie dir gefallen. Egal ob kreativ\, aktiv oder neugierig – hier ist für alle etwas dabei!
URL;VALUE=URI:https://www.unser-ferienprogramm.de/breisach/veranstaltung.php?id=316907
SUMMARY:Sommercamp Woche 1 - Gemischtes Programm - 5. bis 7. Klasse
DTSTART;TZID=Europe/Berlin:20260807T083000
END:VEVENT

END:VCALENDAR
