BEGIN:VCALENDAR
VERSION:2.0
PRODID:-//hacksw/handcal//NONSGML v1.0//EN
CALSCALE:GREGORIAN
BEGIN:VTIMEZONE
TZID:Europe/Berlin
X-LIC-LOCATION:Europe/Berlin
BEGIN:DAYLIGHT
TZOFFSETFROM:+0100
TZOFFSETTO:+0200
TZNAME:CEST
DTSTART:19700329T020000
RRULE:FREQ=YEARLY;BYDAY=-1SU;BYMONTH=3
END:DAYLIGHT
BEGIN:STANDARD
TZOFFSETFROM:+0200
TZOFFSETTO:+0100
TZNAME:CET
DTSTART:19701025T030000
RRULE:FREQ=YEARLY;BYDAY=-1SU;BYMONTH=10
END:STANDARD
END:VTIMEZONE
BEGIN:VEVENT
DTEND;TZID=Europe/Berlin:20260817T153000
UID:69ecf9dd2cc1e
DTSTAMP:20260425T192901
LOCATION:GTS Breisach
DESCRIPTION:Lust auf coole Ferien? Beim Sommercamp kannst du basteln\, Sport machen oder bei Ausflügen Neues entdecken. Triff andere Kinder\, probier verschiedene Aktivitäten aus und gestalte deine Ferientage so\, wie sie dir gefallen. Egal ob kreativ\, aktiv oder neugierig – hier ist für alle etwas dabei!
URL;VALUE=URI:https://www.unser-ferienprogramm.de/breisach/veranstaltung.php?id=316879
SUMMARY:Sommercamp Woche 3 - Gemischtes Programm - 1. bis 2. Klasse
DTSTART;TZID=Europe/Berlin:20260817T083000
END:VEVENT


BEGIN:VEVENT
DTEND;TZID=Europe/Berlin:20260818T153000
UID:69ecf9dd2cc361
DTSTAMP:20260425T192901
LOCATION:GTS Breisach
DESCRIPTION:Lust auf coole Ferien? Beim Sommercamp kannst du basteln\, Sport machen oder bei Ausflügen Neues entdecken. Triff andere Kinder\, probier verschiedene Aktivitäten aus und gestalte deine Ferientage so\, wie sie dir gefallen. Egal ob kreativ\, aktiv oder neugierig – hier ist für alle etwas dabei!
URL;VALUE=URI:https://www.unser-ferienprogramm.de/breisach/veranstaltung.php?id=316879
SUMMARY:Sommercamp Woche 3 - Gemischtes Programm - 1. bis 2. Klasse
DTSTART;TZID=Europe/Berlin:20260818T083000
END:VEVENT


BEGIN:VEVENT
DTEND;TZID=Europe/Berlin:20260819T153000
UID:69ecf9dd2cc422
DTSTAMP:20260425T192901
LOCATION:GTS Breisach
DESCRIPTION:Lust auf coole Ferien? Beim Sommercamp kannst du basteln\, Sport machen oder bei Ausflügen Neues entdecken. Triff andere Kinder\, probier verschiedene Aktivitäten aus und gestalte deine Ferientage so\, wie sie dir gefallen. Egal ob kreativ\, aktiv oder neugierig – hier ist für alle etwas dabei!
URL;VALUE=URI:https://www.unser-ferienprogramm.de/breisach/veranstaltung.php?id=316879
SUMMARY:Sommercamp Woche 3 - Gemischtes Programm - 1. bis 2. Klasse
DTSTART;TZID=Europe/Berlin:20260819T083000
END:VEVENT


BEGIN:VEVENT
DTEND;TZID=Europe/Berlin:20260820T153000
UID:69ecf9dd2cc4c3
DTSTAMP:20260425T192901
LOCATION:GTS Breisach
DESCRIPTION:Lust auf coole Ferien? Beim Sommercamp kannst du basteln\, Sport machen oder bei Ausflügen Neues entdecken. Triff andere Kinder\, probier verschiedene Aktivitäten aus und gestalte deine Ferientage so\, wie sie dir gefallen. Egal ob kreativ\, aktiv oder neugierig – hier ist für alle etwas dabei!
URL;VALUE=URI:https://www.unser-ferienprogramm.de/breisach/veranstaltung.php?id=316879
SUMMARY:Sommercamp Woche 3 - Gemischtes Programm - 1. bis 2. Klasse
DTSTART;TZID=Europe/Berlin:20260820T083000
END:VEVENT


BEGIN:VEVENT
DTEND;TZID=Europe/Berlin:20260821T153000
UID:69ecf9dd2cc564
DTSTAMP:20260425T192901
LOCATION:GTS Breisach
DESCRIPTION:Lust auf coole Ferien? Beim Sommercamp kannst du basteln\, Sport machen oder bei Ausflügen Neues entdecken. Triff andere Kinder\, probier verschiedene Aktivitäten aus und gestalte deine Ferientage so\, wie sie dir gefallen. Egal ob kreativ\, aktiv oder neugierig – hier ist für alle etwas dabei!
URL;VALUE=URI:https://www.unser-ferienprogramm.de/breisach/veranstaltung.php?id=316879
SUMMARY:Sommercamp Woche 3 - Gemischtes Programm - 1. bis 2. Klasse
DTSTART;TZID=Europe/Berlin:20260821T083000
END:VEVENT

END:VCALENDAR
