BEGIN:VCALENDAR
VERSION:2.0
PRODID:-//hacksw/handcal//NONSGML v1.0//EN
CALSCALE:GREGORIAN
BEGIN:VTIMEZONE
TZID:Europe/Berlin
X-LIC-LOCATION:Europe/Berlin
BEGIN:DAYLIGHT
TZOFFSETFROM:+0100
TZOFFSETTO:+0200
TZNAME:CEST
DTSTART:19700329T020000
RRULE:FREQ=YEARLY;BYDAY=-1SU;BYMONTH=3
END:DAYLIGHT
BEGIN:STANDARD
TZOFFSETFROM:+0200
TZOFFSETTO:+0100
TZNAME:CET
DTSTART:19701025T030000
RRULE:FREQ=YEARLY;BYDAY=-1SU;BYMONTH=10
END:STANDARD
END:VTIMEZONE
BEGIN:VEVENT
DTEND;TZID=Europe/Berlin:20260810T153000
UID:69ecf9b020080
DTSTAMP:20260425T192816
LOCATION:GTS Breisach
DESCRIPTION:Lust auf coole Ferien? Beim Sommercamp kannst du basteln\, Sport machen oder bei Ausflügen Neues entdecken. Triff andere Kinder\, probier verschiedene Aktivitäten aus und gestalte deine Ferientage so\, wie sie dir gefallen. Egal ob kreativ\, aktiv oder neugierig – hier ist für alle etwas dabei!
URL;VALUE=URI:https://www.unser-ferienprogramm.de/breisach/veranstaltung.php?id=316871
SUMMARY:Sommercamp Woche 2 - Gemischtes Programm - 1. bis 2. Klasse
DTSTART;TZID=Europe/Berlin:20260810T083000
END:VEVENT


BEGIN:VEVENT
DTEND;TZID=Europe/Berlin:20260811T153000
UID:69ecf9b0200bc1
DTSTAMP:20260425T192816
LOCATION:GTS Breisach
DESCRIPTION:Lust auf coole Ferien? Beim Sommercamp kannst du basteln\, Sport machen oder bei Ausflügen Neues entdecken. Triff andere Kinder\, probier verschiedene Aktivitäten aus und gestalte deine Ferientage so\, wie sie dir gefallen. Egal ob kreativ\, aktiv oder neugierig – hier ist für alle etwas dabei!
URL;VALUE=URI:https://www.unser-ferienprogramm.de/breisach/veranstaltung.php?id=316871
SUMMARY:Sommercamp Woche 2 - Gemischtes Programm - 1. bis 2. Klasse
DTSTART;TZID=Europe/Berlin:20260811T083000
END:VEVENT


BEGIN:VEVENT
DTEND;TZID=Europe/Berlin:20260812T153000
UID:69ecf9b0200c82
DTSTAMP:20260425T192816
LOCATION:GTS Breisach
DESCRIPTION:Lust auf coole Ferien? Beim Sommercamp kannst du basteln\, Sport machen oder bei Ausflügen Neues entdecken. Triff andere Kinder\, probier verschiedene Aktivitäten aus und gestalte deine Ferientage so\, wie sie dir gefallen. Egal ob kreativ\, aktiv oder neugierig – hier ist für alle etwas dabei!
URL;VALUE=URI:https://www.unser-ferienprogramm.de/breisach/veranstaltung.php?id=316871
SUMMARY:Sommercamp Woche 2 - Gemischtes Programm - 1. bis 2. Klasse
DTSTART;TZID=Europe/Berlin:20260812T083000
END:VEVENT


BEGIN:VEVENT
DTEND;TZID=Europe/Berlin:20260813T153000
UID:69ecf9b0200d23
DTSTAMP:20260425T192816
LOCATION:GTS Breisach
DESCRIPTION:Lust auf coole Ferien? Beim Sommercamp kannst du basteln\, Sport machen oder bei Ausflügen Neues entdecken. Triff andere Kinder\, probier verschiedene Aktivitäten aus und gestalte deine Ferientage so\, wie sie dir gefallen. Egal ob kreativ\, aktiv oder neugierig – hier ist für alle etwas dabei!
URL;VALUE=URI:https://www.unser-ferienprogramm.de/breisach/veranstaltung.php?id=316871
SUMMARY:Sommercamp Woche 2 - Gemischtes Programm - 1. bis 2. Klasse
DTSTART;TZID=Europe/Berlin:20260813T083000
END:VEVENT


BEGIN:VEVENT
DTEND;TZID=Europe/Berlin:20260814T153000
UID:69ecf9b0200dc4
DTSTAMP:20260425T192816
LOCATION:GTS Breisach
DESCRIPTION:Lust auf coole Ferien? Beim Sommercamp kannst du basteln\, Sport machen oder bei Ausflügen Neues entdecken. Triff andere Kinder\, probier verschiedene Aktivitäten aus und gestalte deine Ferientage so\, wie sie dir gefallen. Egal ob kreativ\, aktiv oder neugierig – hier ist für alle etwas dabei!
URL;VALUE=URI:https://www.unser-ferienprogramm.de/breisach/veranstaltung.php?id=316871
SUMMARY:Sommercamp Woche 2 - Gemischtes Programm - 1. bis 2. Klasse
DTSTART;TZID=Europe/Berlin:20260814T083000
END:VEVENT

END:VCALENDAR
