BEGIN:VCALENDAR
VERSION:2.0
PRODID:-//hacksw/handcal//NONSGML v1.0//EN
CALSCALE:GREGORIAN
BEGIN:VTIMEZONE
TZID:Europe/Berlin
X-LIC-LOCATION:Europe/Berlin
BEGIN:DAYLIGHT
TZOFFSETFROM:+0100
TZOFFSETTO:+0200
TZNAME:CEST
DTSTART:19700329T020000
RRULE:FREQ=YEARLY;BYDAY=-1SU;BYMONTH=3
END:DAYLIGHT
BEGIN:STANDARD
TZOFFSETFROM:+0200
TZOFFSETTO:+0100
TZNAME:CET
DTSTART:19701025T030000
RRULE:FREQ=YEARLY;BYDAY=-1SU;BYMONTH=10
END:STANDARD
END:VTIMEZONE
BEGIN:VEVENT
DTEND;TZID=Europe/Berlin:20260810T153000
UID:69ecfd00d66fe
DTSTAMP:20260425T194224
LOCATION:Waldstadion Breisach
DESCRIPTION:Im Waldstadion wird sich hier alles ums Thema Ball drehen. \r\nBei passendem Wetter nutzen wir natürlich auch das Schwimmbad nebenan!!\r\nFreut Euch auf eine actionreiche Woche!
URL;VALUE=URI:https://www.unser-ferienprogramm.de/breisach/veranstaltung.php?id=309634
SUMMARY:Sommercamp Woche 2 - Fussballwoche - 5. bis 7. Klasse
DTSTART;TZID=Europe/Berlin:20260810T083000
END:VEVENT


BEGIN:VEVENT
DTEND;TZID=Europe/Berlin:20260811T153000
UID:69ecfd00d67151
DTSTAMP:20260425T194224
LOCATION:Waldstadion Breisach
DESCRIPTION:Im Waldstadion wird sich hier alles ums Thema Ball drehen. \r\nBei passendem Wetter nutzen wir natürlich auch das Schwimmbad nebenan!!\r\nFreut Euch auf eine actionreiche Woche!
URL;VALUE=URI:https://www.unser-ferienprogramm.de/breisach/veranstaltung.php?id=309634
SUMMARY:Sommercamp Woche 2 - Fussballwoche - 5. bis 7. Klasse
DTSTART;TZID=Europe/Berlin:20260811T083000
END:VEVENT


BEGIN:VEVENT
DTEND;TZID=Europe/Berlin:20260812T153000
UID:69ecfd00d67212
DTSTAMP:20260425T194224
LOCATION:Waldstadion Breisach
DESCRIPTION:Im Waldstadion wird sich hier alles ums Thema Ball drehen. \r\nBei passendem Wetter nutzen wir natürlich auch das Schwimmbad nebenan!!\r\nFreut Euch auf eine actionreiche Woche!
URL;VALUE=URI:https://www.unser-ferienprogramm.de/breisach/veranstaltung.php?id=309634
SUMMARY:Sommercamp Woche 2 - Fussballwoche - 5. bis 7. Klasse
DTSTART;TZID=Europe/Berlin:20260812T083000
END:VEVENT


BEGIN:VEVENT
DTEND;TZID=Europe/Berlin:20260813T153000
UID:69ecfd00d672b3
DTSTAMP:20260425T194224
LOCATION:Waldstadion Breisach
DESCRIPTION:Im Waldstadion wird sich hier alles ums Thema Ball drehen. \r\nBei passendem Wetter nutzen wir natürlich auch das Schwimmbad nebenan!!\r\nFreut Euch auf eine actionreiche Woche!
URL;VALUE=URI:https://www.unser-ferienprogramm.de/breisach/veranstaltung.php?id=309634
SUMMARY:Sommercamp Woche 2 - Fussballwoche - 5. bis 7. Klasse
DTSTART;TZID=Europe/Berlin:20260813T083000
END:VEVENT


BEGIN:VEVENT
DTEND;TZID=Europe/Berlin:20260814T153000
UID:69ecfd00d67344
DTSTAMP:20260425T194224
LOCATION:Waldstadion Breisach
DESCRIPTION:Im Waldstadion wird sich hier alles ums Thema Ball drehen. \r\nBei passendem Wetter nutzen wir natürlich auch das Schwimmbad nebenan!!\r\nFreut Euch auf eine actionreiche Woche!
URL;VALUE=URI:https://www.unser-ferienprogramm.de/breisach/veranstaltung.php?id=309634
SUMMARY:Sommercamp Woche 2 - Fussballwoche - 5. bis 7. Klasse
DTSTART;TZID=Europe/Berlin:20260814T083000
END:VEVENT

END:VCALENDAR
