BEGIN:VCALENDAR
VERSION:2.0
PRODID:-//hacksw/handcal//NONSGML v1.0//EN
CALSCALE:GREGORIAN
BEGIN:VTIMEZONE
TZID:Europe/Berlin
X-LIC-LOCATION:Europe/Berlin
BEGIN:DAYLIGHT
TZOFFSETFROM:+0100
TZOFFSETTO:+0200
TZNAME:CEST
DTSTART:19700329T020000
RRULE:FREQ=YEARLY;BYDAY=-1SU;BYMONTH=3
END:DAYLIGHT
BEGIN:STANDARD
TZOFFSETFROM:+0200
TZOFFSETTO:+0100
TZNAME:CET
DTSTART:19701025T030000
RRULE:FREQ=YEARLY;BYDAY=-1SU;BYMONTH=10
END:STANDARD
END:VTIMEZONE
BEGIN:VEVENT
DTEND;TZID=Europe/Berlin:20260810T153000
UID:69ecf990db183
DTSTAMP:20260425T192744
LOCATION:Jugendclub Breisach
DESCRIPTION:Hier begeben sich die Kinder auf eine spannende Reise durch die Welt des Kochens\, Backens und Genießens. Gemeinsam entdecken wir unterschiedliche Zutaten\, kochen und backen leckere Gerichte aus aller Welt. \r\n \r\nNeben dem praktischen Arbeiten in der Küche stehen auch abwechslungsreiche Ausflüge auf dem Programm\, die thematisch zum Kochen\, Backen und Genießen passen. \r\n \r\nWir freuen uns auf eine genussvolle\, kreative und erlebnisreiche Ferienwoche! \r\n
URL;VALUE=URI:https://www.unser-ferienprogramm.de/breisach/veranstaltung.php?id=309586
SUMMARY:Sommercamp Woche 2 - Genussentdecker - 5. bis 7. Klasse
DTSTART;TZID=Europe/Berlin:20260810T083000
END:VEVENT


BEGIN:VEVENT
DTEND;TZID=Europe/Berlin:20260811T153000
UID:69ecf990db19d1
DTSTAMP:20260425T192744
LOCATION:Jugendclub Breisach
DESCRIPTION:Hier begeben sich die Kinder auf eine spannende Reise durch die Welt des Kochens\, Backens und Genießens. Gemeinsam entdecken wir unterschiedliche Zutaten\, kochen und backen leckere Gerichte aus aller Welt. \r\n \r\nNeben dem praktischen Arbeiten in der Küche stehen auch abwechslungsreiche Ausflüge auf dem Programm\, die thematisch zum Kochen\, Backen und Genießen passen. \r\n \r\nWir freuen uns auf eine genussvolle\, kreative und erlebnisreiche Ferienwoche! \r\n
URL;VALUE=URI:https://www.unser-ferienprogramm.de/breisach/veranstaltung.php?id=309586
SUMMARY:Sommercamp Woche 2 - Genussentdecker - 5. bis 7. Klasse
DTSTART;TZID=Europe/Berlin:20260811T083000
END:VEVENT


BEGIN:VEVENT
DTEND;TZID=Europe/Berlin:20260812T153000
UID:69ecf990db1ab2
DTSTAMP:20260425T192744
LOCATION:Jugendclub Breisach
DESCRIPTION:Hier begeben sich die Kinder auf eine spannende Reise durch die Welt des Kochens\, Backens und Genießens. Gemeinsam entdecken wir unterschiedliche Zutaten\, kochen und backen leckere Gerichte aus aller Welt. \r\n \r\nNeben dem praktischen Arbeiten in der Küche stehen auch abwechslungsreiche Ausflüge auf dem Programm\, die thematisch zum Kochen\, Backen und Genießen passen. \r\n \r\nWir freuen uns auf eine genussvolle\, kreative und erlebnisreiche Ferienwoche! \r\n
URL;VALUE=URI:https://www.unser-ferienprogramm.de/breisach/veranstaltung.php?id=309586
SUMMARY:Sommercamp Woche 2 - Genussentdecker - 5. bis 7. Klasse
DTSTART;TZID=Europe/Berlin:20260812T083000
END:VEVENT


BEGIN:VEVENT
DTEND;TZID=Europe/Berlin:20260813T153000
UID:69ecf990db1b63
DTSTAMP:20260425T192744
LOCATION:Jugendclub Breisach
DESCRIPTION:Hier begeben sich die Kinder auf eine spannende Reise durch die Welt des Kochens\, Backens und Genießens. Gemeinsam entdecken wir unterschiedliche Zutaten\, kochen und backen leckere Gerichte aus aller Welt. \r\n \r\nNeben dem praktischen Arbeiten in der Küche stehen auch abwechslungsreiche Ausflüge auf dem Programm\, die thematisch zum Kochen\, Backen und Genießen passen. \r\n \r\nWir freuen uns auf eine genussvolle\, kreative und erlebnisreiche Ferienwoche! \r\n
URL;VALUE=URI:https://www.unser-ferienprogramm.de/breisach/veranstaltung.php?id=309586
SUMMARY:Sommercamp Woche 2 - Genussentdecker - 5. bis 7. Klasse
DTSTART;TZID=Europe/Berlin:20260813T083000
END:VEVENT


BEGIN:VEVENT
DTEND;TZID=Europe/Berlin:20260814T153000
UID:69ecf990db1bf4
DTSTAMP:20260425T192744
LOCATION:Jugendclub Breisach
DESCRIPTION:Hier begeben sich die Kinder auf eine spannende Reise durch die Welt des Kochens\, Backens und Genießens. Gemeinsam entdecken wir unterschiedliche Zutaten\, kochen und backen leckere Gerichte aus aller Welt. \r\n \r\nNeben dem praktischen Arbeiten in der Küche stehen auch abwechslungsreiche Ausflüge auf dem Programm\, die thematisch zum Kochen\, Backen und Genießen passen. \r\n \r\nWir freuen uns auf eine genussvolle\, kreative und erlebnisreiche Ferienwoche! \r\n
URL;VALUE=URI:https://www.unser-ferienprogramm.de/breisach/veranstaltung.php?id=309586
SUMMARY:Sommercamp Woche 2 - Genussentdecker - 5. bis 7. Klasse
DTSTART;TZID=Europe/Berlin:20260814T083000
END:VEVENT

END:VCALENDAR
