BEGIN:VCALENDAR
VERSION:2.0
PRODID:-//hacksw/handcal//NONSGML v1.0//EN
CALSCALE:GREGORIAN
BEGIN:VTIMEZONE
TZID:Europe/Berlin
X-LIC-LOCATION:Europe/Berlin
BEGIN:DAYLIGHT
TZOFFSETFROM:+0100
TZOFFSETTO:+0200
TZNAME:CEST
DTSTART:19700329T020000
RRULE:FREQ=YEARLY;BYDAY=-1SU;BYMONTH=3
END:DAYLIGHT
BEGIN:STANDARD
TZOFFSETFROM:+0200
TZOFFSETTO:+0100
TZNAME:CET
DTSTART:19701025T030000
RRULE:FREQ=YEARLY;BYDAY=-1SU;BYMONTH=10
END:STANDARD
END:VTIMEZONE
BEGIN:VEVENT
DTEND;TZID=Europe/Berlin:20260803T153000
UID:69ecfa01dec9f
DTSTAMP:20260425T192937
LOCATION:Jugendclub Breisach
DESCRIPTION:Hier begeben sich die Kinder auf eine spannende Reise durch die Welt des Kochens\, Backens und Genießens. Gemeinsam entdecken wir unterschiedliche Zutaten\, kochen und backen leckere Gerichte aus aller Welt. \r\n \r\nNeben dem praktischen Arbeiten in der Küche stehen auch abwechslungsreiche Ausflüge auf dem Programm\, die thematisch zum Kochen\, Backen und Genießen passen. \r\n \r\nWir freuen uns auf eine genussvolle\, kreative und erlebnisreiche Ferienwoche! \r\n
URL;VALUE=URI:https://www.unser-ferienprogramm.de/breisach/veranstaltung.php?id=309585
SUMMARY:Sommercamp Woche 1 - Genussentdecker - 5. bis 7. Klasse
DTSTART;TZID=Europe/Berlin:20260803T083000
END:VEVENT


BEGIN:VEVENT
DTEND;TZID=Europe/Berlin:20260804T153000
UID:69ecfa01decbb1
DTSTAMP:20260425T192937
LOCATION:Jugendclub Breisach
DESCRIPTION:Hier begeben sich die Kinder auf eine spannende Reise durch die Welt des Kochens\, Backens und Genießens. Gemeinsam entdecken wir unterschiedliche Zutaten\, kochen und backen leckere Gerichte aus aller Welt. \r\n \r\nNeben dem praktischen Arbeiten in der Küche stehen auch abwechslungsreiche Ausflüge auf dem Programm\, die thematisch zum Kochen\, Backen und Genießen passen. \r\n \r\nWir freuen uns auf eine genussvolle\, kreative und erlebnisreiche Ferienwoche! \r\n
URL;VALUE=URI:https://www.unser-ferienprogramm.de/breisach/veranstaltung.php?id=309585
SUMMARY:Sommercamp Woche 1 - Genussentdecker - 5. bis 7. Klasse
DTSTART;TZID=Europe/Berlin:20260804T083000
END:VEVENT


BEGIN:VEVENT
DTEND;TZID=Europe/Berlin:20260805T153000
UID:69ecfa01decc92
DTSTAMP:20260425T192937
LOCATION:Jugendclub Breisach
DESCRIPTION:Hier begeben sich die Kinder auf eine spannende Reise durch die Welt des Kochens\, Backens und Genießens. Gemeinsam entdecken wir unterschiedliche Zutaten\, kochen und backen leckere Gerichte aus aller Welt. \r\n \r\nNeben dem praktischen Arbeiten in der Küche stehen auch abwechslungsreiche Ausflüge auf dem Programm\, die thematisch zum Kochen\, Backen und Genießen passen. \r\n \r\nWir freuen uns auf eine genussvolle\, kreative und erlebnisreiche Ferienwoche! \r\n
URL;VALUE=URI:https://www.unser-ferienprogramm.de/breisach/veranstaltung.php?id=309585
SUMMARY:Sommercamp Woche 1 - Genussentdecker - 5. bis 7. Klasse
DTSTART;TZID=Europe/Berlin:20260805T083000
END:VEVENT


BEGIN:VEVENT
DTEND;TZID=Europe/Berlin:20260806T153000
UID:69ecfa01decd43
DTSTAMP:20260425T192937
LOCATION:Jugendclub Breisach
DESCRIPTION:Hier begeben sich die Kinder auf eine spannende Reise durch die Welt des Kochens\, Backens und Genießens. Gemeinsam entdecken wir unterschiedliche Zutaten\, kochen und backen leckere Gerichte aus aller Welt. \r\n \r\nNeben dem praktischen Arbeiten in der Küche stehen auch abwechslungsreiche Ausflüge auf dem Programm\, die thematisch zum Kochen\, Backen und Genießen passen. \r\n \r\nWir freuen uns auf eine genussvolle\, kreative und erlebnisreiche Ferienwoche! \r\n
URL;VALUE=URI:https://www.unser-ferienprogramm.de/breisach/veranstaltung.php?id=309585
SUMMARY:Sommercamp Woche 1 - Genussentdecker - 5. bis 7. Klasse
DTSTART;TZID=Europe/Berlin:20260806T083000
END:VEVENT


BEGIN:VEVENT
DTEND;TZID=Europe/Berlin:20260807T153000
UID:69ecfa01decdd4
DTSTAMP:20260425T192937
LOCATION:Jugendclub Breisach
DESCRIPTION:Hier begeben sich die Kinder auf eine spannende Reise durch die Welt des Kochens\, Backens und Genießens. Gemeinsam entdecken wir unterschiedliche Zutaten\, kochen und backen leckere Gerichte aus aller Welt. \r\n \r\nNeben dem praktischen Arbeiten in der Küche stehen auch abwechslungsreiche Ausflüge auf dem Programm\, die thematisch zum Kochen\, Backen und Genießen passen. \r\n \r\nWir freuen uns auf eine genussvolle\, kreative und erlebnisreiche Ferienwoche! \r\n
URL;VALUE=URI:https://www.unser-ferienprogramm.de/breisach/veranstaltung.php?id=309585
SUMMARY:Sommercamp Woche 1 - Genussentdecker - 5. bis 7. Klasse
DTSTART;TZID=Europe/Berlin:20260807T083000
END:VEVENT

END:VCALENDAR
