BEGIN:VCALENDAR
VERSION:2.0
PRODID:-//hacksw/handcal//NONSGML v1.0//EN
CALSCALE:GREGORIAN
BEGIN:VTIMEZONE
TZID:Europe/Berlin
X-LIC-LOCATION:Europe/Berlin
BEGIN:DAYLIGHT
TZOFFSETFROM:+0100
TZOFFSETTO:+0200
TZNAME:CEST
DTSTART:19700329T020000
RRULE:FREQ=YEARLY;BYDAY=-1SU;BYMONTH=3
END:DAYLIGHT
BEGIN:STANDARD
TZOFFSETFROM:+0200
TZOFFSETTO:+0100
TZNAME:CET
DTSTART:19701025T030000
RRULE:FREQ=YEARLY;BYDAY=-1SU;BYMONTH=10
END:STANDARD
END:VTIMEZONE
BEGIN:VEVENT
DTEND;TZID=Europe/Berlin:20260810T153000
UID:69ecf9e9a9a03
DTSTAMP:20260425T192913
LOCATION:Jugendclub Breisach
DESCRIPTION:• Modern Dance / Jazz Dance oder Freestyle / Improvisation - Förderung von Kreativität\r\n\r\n• Fresher Spaß im Schwimmbad\r\n\r\n• Optionale kleine Spiele / kreative Übungen\r\n
URL;VALUE=URI:https://www.unser-ferienprogramm.de/breisach/veranstaltung.php?id=308760
SUMMARY:Sommercamp Woche 2 - Tanzprojekt „Skorpio Flow" (Hip-Hop / Modern) - 1. bis 4. Klasse
DTSTART;TZID=Europe/Berlin:20260810T083000
END:VEVENT


BEGIN:VEVENT
DTEND;TZID=Europe/Berlin:20260811T153000
UID:69ecf9e9a9a1b1
DTSTAMP:20260425T192913
LOCATION:Jugendclub Breisach
DESCRIPTION:• Modern Dance / Jazz Dance oder Freestyle / Improvisation - Förderung von Kreativität\r\n\r\n• Fresher Spaß im Schwimmbad\r\n\r\n• Optionale kleine Spiele / kreative Übungen\r\n
URL;VALUE=URI:https://www.unser-ferienprogramm.de/breisach/veranstaltung.php?id=308760
SUMMARY:Sommercamp Woche 2 - Tanzprojekt „Skorpio Flow" (Hip-Hop / Modern) - 1. bis 4. Klasse
DTSTART;TZID=Europe/Berlin:20260811T083000
END:VEVENT


BEGIN:VEVENT
DTEND;TZID=Europe/Berlin:20260812T153000
UID:69ecf9e9a9a272
DTSTAMP:20260425T192913
LOCATION:Jugendclub Breisach
DESCRIPTION:• Modern Dance / Jazz Dance oder Freestyle / Improvisation - Förderung von Kreativität\r\n\r\n• Fresher Spaß im Schwimmbad\r\n\r\n• Optionale kleine Spiele / kreative Übungen\r\n
URL;VALUE=URI:https://www.unser-ferienprogramm.de/breisach/veranstaltung.php?id=308760
SUMMARY:Sommercamp Woche 2 - Tanzprojekt „Skorpio Flow" (Hip-Hop / Modern) - 1. bis 4. Klasse
DTSTART;TZID=Europe/Berlin:20260812T083000
END:VEVENT


BEGIN:VEVENT
DTEND;TZID=Europe/Berlin:20260813T153000
UID:69ecf9e9a9a313
DTSTAMP:20260425T192913
LOCATION:Jugendclub Breisach
DESCRIPTION:• Modern Dance / Jazz Dance oder Freestyle / Improvisation - Förderung von Kreativität\r\n\r\n• Fresher Spaß im Schwimmbad\r\n\r\n• Optionale kleine Spiele / kreative Übungen\r\n
URL;VALUE=URI:https://www.unser-ferienprogramm.de/breisach/veranstaltung.php?id=308760
SUMMARY:Sommercamp Woche 2 - Tanzprojekt „Skorpio Flow" (Hip-Hop / Modern) - 1. bis 4. Klasse
DTSTART;TZID=Europe/Berlin:20260813T083000
END:VEVENT


BEGIN:VEVENT
DTEND;TZID=Europe/Berlin:20260814T153000
UID:69ecf9e9a9a3a4
DTSTAMP:20260425T192913
LOCATION:Jugendclub Breisach
DESCRIPTION:• Modern Dance / Jazz Dance oder Freestyle / Improvisation - Förderung von Kreativität\r\n\r\n• Fresher Spaß im Schwimmbad\r\n\r\n• Optionale kleine Spiele / kreative Übungen\r\n
URL;VALUE=URI:https://www.unser-ferienprogramm.de/breisach/veranstaltung.php?id=308760
SUMMARY:Sommercamp Woche 2 - Tanzprojekt „Skorpio Flow" (Hip-Hop / Modern) - 1. bis 4. Klasse
DTSTART;TZID=Europe/Berlin:20260814T083000
END:VEVENT

END:VCALENDAR
