BEGIN:VCALENDAR
VERSION:2.0
PRODID:-//hacksw/handcal//NONSGML v1.0//EN
CALSCALE:GREGORIAN
BEGIN:VTIMEZONE
TZID:Europe/Berlin
X-LIC-LOCATION:Europe/Berlin
BEGIN:DAYLIGHT
TZOFFSETFROM:+0100
TZOFFSETTO:+0200
TZNAME:CEST
DTSTART:19700329T020000
RRULE:FREQ=YEARLY;BYDAY=-1SU;BYMONTH=3
END:DAYLIGHT
BEGIN:STANDARD
TZOFFSETFROM:+0200
TZOFFSETTO:+0100
TZNAME:CET
DTSTART:19701025T030000
RRULE:FREQ=YEARLY;BYDAY=-1SU;BYMONTH=10
END:STANDARD
END:VTIMEZONE
BEGIN:VEVENT
DTEND;TZID=Europe/Berlin:20260803T153000
UID:69ecf9dd91ed4
DTSTAMP:20260425T192901
LOCATION:Jugendclub Breisach
DESCRIPTION:• Modern Dance / Jazz Dance oder Freestyle / Improvisation - Förderung von Kreativität\r\n\r\n• Fresher Spaß im Schwimmbad \r\n\r\n• Optionale kleine Spiele / kreative Übungen 
URL;VALUE=URI:https://www.unser-ferienprogramm.de/breisach/veranstaltung.php?id=308758
SUMMARY:Sommercamp Woche 1 - Tanzprojekt „Skorpio Flow" (Hip-Hop / Modern) - 5. bis 7. Klasse
DTSTART;TZID=Europe/Berlin:20260803T083000
END:VEVENT


BEGIN:VEVENT
DTEND;TZID=Europe/Berlin:20260804T153000
UID:69ecf9dd91eeb1
DTSTAMP:20260425T192901
LOCATION:Jugendclub Breisach
DESCRIPTION:• Modern Dance / Jazz Dance oder Freestyle / Improvisation - Förderung von Kreativität\r\n\r\n• Fresher Spaß im Schwimmbad \r\n\r\n• Optionale kleine Spiele / kreative Übungen 
URL;VALUE=URI:https://www.unser-ferienprogramm.de/breisach/veranstaltung.php?id=308758
SUMMARY:Sommercamp Woche 1 - Tanzprojekt „Skorpio Flow" (Hip-Hop / Modern) - 5. bis 7. Klasse
DTSTART;TZID=Europe/Berlin:20260804T083000
END:VEVENT


BEGIN:VEVENT
DTEND;TZID=Europe/Berlin:20260805T153000
UID:69ecf9dd91ef72
DTSTAMP:20260425T192901
LOCATION:Jugendclub Breisach
DESCRIPTION:• Modern Dance / Jazz Dance oder Freestyle / Improvisation - Förderung von Kreativität\r\n\r\n• Fresher Spaß im Schwimmbad \r\n\r\n• Optionale kleine Spiele / kreative Übungen 
URL;VALUE=URI:https://www.unser-ferienprogramm.de/breisach/veranstaltung.php?id=308758
SUMMARY:Sommercamp Woche 1 - Tanzprojekt „Skorpio Flow" (Hip-Hop / Modern) - 5. bis 7. Klasse
DTSTART;TZID=Europe/Berlin:20260805T083000
END:VEVENT


BEGIN:VEVENT
DTEND;TZID=Europe/Berlin:20260806T153000
UID:69ecf9dd91f013
DTSTAMP:20260425T192901
LOCATION:Jugendclub Breisach
DESCRIPTION:• Modern Dance / Jazz Dance oder Freestyle / Improvisation - Förderung von Kreativität\r\n\r\n• Fresher Spaß im Schwimmbad \r\n\r\n• Optionale kleine Spiele / kreative Übungen 
URL;VALUE=URI:https://www.unser-ferienprogramm.de/breisach/veranstaltung.php?id=308758
SUMMARY:Sommercamp Woche 1 - Tanzprojekt „Skorpio Flow" (Hip-Hop / Modern) - 5. bis 7. Klasse
DTSTART;TZID=Europe/Berlin:20260806T083000
END:VEVENT


BEGIN:VEVENT
DTEND;TZID=Europe/Berlin:20260807T153000
UID:69ecf9dd91f0a4
DTSTAMP:20260425T192901
LOCATION:Jugendclub Breisach
DESCRIPTION:• Modern Dance / Jazz Dance oder Freestyle / Improvisation - Förderung von Kreativität\r\n\r\n• Fresher Spaß im Schwimmbad \r\n\r\n• Optionale kleine Spiele / kreative Übungen 
URL;VALUE=URI:https://www.unser-ferienprogramm.de/breisach/veranstaltung.php?id=308758
SUMMARY:Sommercamp Woche 1 - Tanzprojekt „Skorpio Flow" (Hip-Hop / Modern) - 5. bis 7. Klasse
DTSTART;TZID=Europe/Berlin:20260807T083000
END:VEVENT

END:VCALENDAR
