BEGIN:VCALENDAR
VERSION:2.0
PRODID:-//hacksw/handcal//NONSGML v1.0//EN
CALSCALE:GREGORIAN
BEGIN:VTIMEZONE
TZID:Europe/Berlin
X-LIC-LOCATION:Europe/Berlin
BEGIN:DAYLIGHT
TZOFFSETFROM:+0100
TZOFFSETTO:+0200
TZNAME:CEST
DTSTART:19700329T020000
RRULE:FREQ=YEARLY;BYDAY=-1SU;BYMONTH=3
END:DAYLIGHT
BEGIN:STANDARD
TZOFFSETFROM:+0200
TZOFFSETTO:+0100
TZNAME:CET
DTSTART:19701025T030000
RRULE:FREQ=YEARLY;BYDAY=-1SU;BYMONTH=10
END:STANDARD
END:VTIMEZONE
BEGIN:VEVENT
DTEND;TZID=Europe/Berlin:20260803T153000
UID:69ecf8eb5e78c
DTSTAMP:20260425T192459
LOCATION:Waldstadion Breisach
DESCRIPTION:Im Waldstadion wird sich hier alles ums Thema Ball drehen. \r\nBei passendem Wetter nutzen wir natürlich auch das Schwimmbad nebenan!!\r\nFreut Euch auf eine actionreiche Woche!
URL;VALUE=URI:https://www.unser-ferienprogramm.de/breisach/veranstaltung.php?id=308756
SUMMARY:Sommercamp Woche 1 - Fussballwoche - 1. bis 4. Klasse 
DTSTART;TZID=Europe/Berlin:20260803T083000
END:VEVENT


BEGIN:VEVENT
DTEND;TZID=Europe/Berlin:20260804T153000
UID:69ecf8eb5e7a41
DTSTAMP:20260425T192459
LOCATION:Waldstadion Breisach
DESCRIPTION:Im Waldstadion wird sich hier alles ums Thema Ball drehen. \r\nBei passendem Wetter nutzen wir natürlich auch das Schwimmbad nebenan!!\r\nFreut Euch auf eine actionreiche Woche!
URL;VALUE=URI:https://www.unser-ferienprogramm.de/breisach/veranstaltung.php?id=308756
SUMMARY:Sommercamp Woche 1 - Fussballwoche - 1. bis 4. Klasse 
DTSTART;TZID=Europe/Berlin:20260804T083000
END:VEVENT


BEGIN:VEVENT
DTEND;TZID=Europe/Berlin:20260805T153000
UID:69ecf8eb5e7b02
DTSTAMP:20260425T192459
LOCATION:Waldstadion Breisach
DESCRIPTION:Im Waldstadion wird sich hier alles ums Thema Ball drehen. \r\nBei passendem Wetter nutzen wir natürlich auch das Schwimmbad nebenan!!\r\nFreut Euch auf eine actionreiche Woche!
URL;VALUE=URI:https://www.unser-ferienprogramm.de/breisach/veranstaltung.php?id=308756
SUMMARY:Sommercamp Woche 1 - Fussballwoche - 1. bis 4. Klasse 
DTSTART;TZID=Europe/Berlin:20260805T083000
END:VEVENT


BEGIN:VEVENT
DTEND;TZID=Europe/Berlin:20260806T153000
UID:69ecf8eb5e7ba3
DTSTAMP:20260425T192459
LOCATION:Waldstadion Breisach
DESCRIPTION:Im Waldstadion wird sich hier alles ums Thema Ball drehen. \r\nBei passendem Wetter nutzen wir natürlich auch das Schwimmbad nebenan!!\r\nFreut Euch auf eine actionreiche Woche!
URL;VALUE=URI:https://www.unser-ferienprogramm.de/breisach/veranstaltung.php?id=308756
SUMMARY:Sommercamp Woche 1 - Fussballwoche - 1. bis 4. Klasse 
DTSTART;TZID=Europe/Berlin:20260806T083000
END:VEVENT


BEGIN:VEVENT
DTEND;TZID=Europe/Berlin:20260807T153000
UID:69ecf8eb5e7c34
DTSTAMP:20260425T192459
LOCATION:Waldstadion Breisach
DESCRIPTION:Im Waldstadion wird sich hier alles ums Thema Ball drehen. \r\nBei passendem Wetter nutzen wir natürlich auch das Schwimmbad nebenan!!\r\nFreut Euch auf eine actionreiche Woche!
URL;VALUE=URI:https://www.unser-ferienprogramm.de/breisach/veranstaltung.php?id=308756
SUMMARY:Sommercamp Woche 1 - Fussballwoche - 1. bis 4. Klasse 
DTSTART;TZID=Europe/Berlin:20260807T083000
END:VEVENT

END:VCALENDAR
