BEGIN:VCALENDAR
VERSION:2.0
PRODID:-//hacksw/handcal//NONSGML v1.0//EN
CALSCALE:GREGORIAN
BEGIN:VTIMEZONE
TZID:Europe/Berlin
X-LIC-LOCATION:Europe/Berlin
BEGIN:DAYLIGHT
TZOFFSETFROM:+0100
TZOFFSETTO:+0200
TZNAME:CEST
DTSTART:19700329T020000
RRULE:FREQ=YEARLY;BYDAY=-1SU;BYMONTH=3
END:DAYLIGHT
BEGIN:STANDARD
TZOFFSETFROM:+0200
TZOFFSETTO:+0100
TZNAME:CET
DTSTART:19701025T030000
RRULE:FREQ=YEARLY;BYDAY=-1SU;BYMONTH=10
END:STANDARD
END:VTIMEZONE
BEGIN:VEVENT
DTEND;TZID=Europe/Berlin:20260828T120000
UID:69eb71aeeff9e
DTSTAMP:20260424T153542
LOCATION:Ökokiste DonauWald GmbH & Co. KG\, Am Kreuzfeld 1\, 94344 Wiesenfelden
DESCRIPTION:Hier lernen die Kinder die Ökokiste hautnah kennen. Nach einer kurzen Führung durch das Gebäude stellt sich das Team vor und erklärt\, was die Ökokiste macht.\r\nAnschließend bereiten die Kinder in zwei Gruppen einen selbstgemachten Pfirsicheistee und einen leckeren Kräuterquark zu\, die danach gemeinsam probiert werden. Je nach Witterung findet das Programm in der Küche oder draußen statt.\r\nRatespiele rund um Obst und Gemüse sowie das beliebte Tastspiel sorgen zusätzlich für Spaß und Abwechslung.\r\n
URL;VALUE=URI:https://www.unser-ferienprogramm.de/bogen/veranstaltung.php?id=307616
SUMMARY:Kleine Gemüse-Detektive – Zu Besuch bei der Ökokiste
DTSTART;TZID=Europe/Berlin:20260828T090000
END:VEVENT

END:VCALENDAR
