BEGIN:VCALENDAR
VERSION:2.0
PRODID:-//hacksw/handcal//NONSGML v1.0//EN
CALSCALE:GREGORIAN
BEGIN:VTIMEZONE
TZID:Europe/Berlin
X-LIC-LOCATION:Europe/Berlin
BEGIN:DAYLIGHT
TZOFFSETFROM:+0100
TZOFFSETTO:+0200
TZNAME:CEST
DTSTART:19700329T020000
RRULE:FREQ=YEARLY;BYDAY=-1SU;BYMONTH=3
END:DAYLIGHT
BEGIN:STANDARD
TZOFFSETFROM:+0200
TZOFFSETTO:+0100
TZNAME:CET
DTSTART:19701025T030000
RRULE:FREQ=YEARLY;BYDAY=-1SU;BYMONTH=10
END:STANDARD
END:VTIMEZONE
BEGIN:VEVENT
DTEND;TZID=Europe/Berlin:20260824T143000
UID:69eb71d951756
DTSTAMP:20260424T153625
LOCATION:
DESCRIPTION:In der Mini-Baustelle erleben Kinder einen spannenden und lehrreichen Bautag. Sie dürfen mit echten Steinen mauern\, Beton anmischen\, kleine Fundamente bauen und ihrer Kreativität freien Lauf lassen\, indem sie ihre eigenen Werkstücke gestalten und bemalen. Dabei erhalten sie kindgerechte Einblicke in das Handwerk. Am Ende nimmt jedes Kind stolz ein selbstgebautes Werkstück mit nach Hause.
URL;VALUE=URI:https://www.unser-ferienprogramm.de/bogen/veranstaltung.php?id=307610
SUMMARY:Mini-Baustelle 2026
DTSTART;TZID=Europe/Berlin:20260824T103000
END:VEVENT

END:VCALENDAR
