BEGIN:VCALENDAR
VERSION:2.0
PRODID:-//hacksw/handcal//NONSGML v1.0//EN
CALSCALE:GREGORIAN
BEGIN:VTIMEZONE
TZID:Europe/Berlin
X-LIC-LOCATION:Europe/Berlin
BEGIN:DAYLIGHT
TZOFFSETFROM:+0100
TZOFFSETTO:+0200
TZNAME:CEST
DTSTART:19700329T020000
RRULE:FREQ=YEARLY;BYDAY=-1SU;BYMONTH=3
END:DAYLIGHT
BEGIN:STANDARD
TZOFFSETFROM:+0200
TZOFFSETTO:+0100
TZNAME:CET
DTSTART:19701025T030000
RRULE:FREQ=YEARLY;BYDAY=-1SU;BYMONTH=10
END:STANDARD
END:VTIMEZONE
BEGIN:VEVENT
DTEND;TZID=Europe/Berlin:20260526T123000
UID:69eb7353ca60a
DTSTAMP:20260424T154243
LOCATION:ESKUSA GmbH\, Bogener Str. 24\, 94365 Parkstetten
DESCRIPTION:Aus Löwenzahn wird Gummi! \r\nBei unserer spannenden Führung entdeckt ihr\, wie aus einer kleinen Pflanze etwas ganz Großes entsteht. Ihr erfahrt\, wie Löwenzahn gezüchtet und angebaut wird\, wie die Samen geerntet werden und was anschließend mit ihnen passiert. Gemeinsam gehen wir der Frage nach\, wie aus Pflanzen natürlicher Kautschuk gewonnen wird und wofür er später verwendet werden kann.
URL;VALUE=URI:https://www.unser-ferienprogramm.de/bogen/veranstaltung.php?id=307558
SUMMARY:Eine spannende Entdeckungsreise von der Pflanze bis zum Gummi!
DTSTART;TZID=Europe/Berlin:20260526T083000
END:VEVENT

END:VCALENDAR
