BEGIN:VCALENDAR
VERSION:2.0
PRODID:-//hacksw/handcal//NONSGML v1.0//EN
CALSCALE:GREGORIAN
BEGIN:VTIMEZONE
TZID:Europe/Berlin
X-LIC-LOCATION:Europe/Berlin
BEGIN:DAYLIGHT
TZOFFSETFROM:+0100
TZOFFSETTO:+0200
TZNAME:CEST
DTSTART:19700329T020000
RRULE:FREQ=YEARLY;BYDAY=-1SU;BYMONTH=3
END:DAYLIGHT
BEGIN:STANDARD
TZOFFSETFROM:+0200
TZOFFSETTO:+0100
TZNAME:CET
DTSTART:19701025T030000
RRULE:FREQ=YEARLY;BYDAY=-1SU;BYMONTH=10
END:STANDARD
END:VTIMEZONE
BEGIN:VEVENT
DTEND;TZID=Europe/Berlin:20260806T160000
UID:69eb72319fab7
DTSTAMP:20260424T153753
LOCATION:St. Englmar
DESCRIPTION:Die Wanderung startet im Ortsteil Predigtstuhl (896 m) in St. Englmar und führt uns zunächst vorbei am Hochseilklettergarten stetig bergauf in Richtung Kammweg. Von dort geht es über einen felsigen Steig hinauf zum Gipfel des Knogl (1056 m)\, wo uns ein beeindruckendes Gipfelkreuz und eine herrliche Aussicht auf die Donauebene erwarten.\r\n\r\nDer Rückweg führt uns an der „Kudernhütte“ vorbei zum Brotzeitplatz – ideal für eine erholsame Rast. Gestärkt geht es weiter zum Predigtstuhlgipfel (1024 m)\, der ebenfalls mit einem Gipfelkreuz geschmückt ist. Der letzte Abschnitt führt uns auf einem angenehmen Abstieg zurück zum Ausgangspunkt der Wanderung.\r\n\r\nEltern\, Großeltern und andere Familienmitglieder sind herzlich eingeladen\, an dieser Ferienfreizeit teilzunehmen.\r\n\r\nReine Gehzeit ca. 2 Std.\r\n\r\nSchwierigkeitsgrad: Mittel
URL;VALUE=URI:https://www.unser-ferienprogramm.de/bogen/veranstaltung.php?id=250553
SUMMARY:Wanderung zum Knogl und Predigtstuhl
DTSTART;TZID=Europe/Berlin:20260806T130000
END:VEVENT

END:VCALENDAR
