BEGIN:VCALENDAR
VERSION:2.0
PRODID:-//hacksw/handcal//NONSGML v1.0//EN
CALSCALE:GREGORIAN
BEGIN:VTIMEZONE
TZID:Europe/Berlin
X-LIC-LOCATION:Europe/Berlin
BEGIN:DAYLIGHT
TZOFFSETFROM:+0100
TZOFFSETTO:+0200
TZNAME:CEST
DTSTART:19700329T020000
RRULE:FREQ=YEARLY;BYDAY=-1SU;BYMONTH=3
END:DAYLIGHT
BEGIN:STANDARD
TZOFFSETFROM:+0200
TZOFFSETTO:+0100
TZNAME:CET
DTSTART:19701025T030000
RRULE:FREQ=YEARLY;BYDAY=-1SU;BYMONTH=10
END:STANDARD
END:VTIMEZONE
BEGIN:VEVENT
DTEND;TZID=Europe/Berlin:20260826T120000
UID:69eb7506dd52a
DTSTAMP:20260424T154958
LOCATION:Bogenberg
DESCRIPTION:An diesem Vormittag bei einer kleinen Wanderung erzählt Stadtarchivar Georg Fisch Sagen und Legenden\, die sich um die streitbaren Grafen von Bogen und das Gnadenbild auf dem Bogenberg ranken.
URL;VALUE=URI:https://www.unser-ferienprogramm.de/bogen/veranstaltung.php?id=250416
SUMMARY:"Sagenhafter" Bogenberg
DTSTART;TZID=Europe/Berlin:20260826T100000
END:VEVENT

END:VCALENDAR
