BEGIN:VCALENDAR
VERSION:2.0
PRODID:-//hacksw/handcal//NONSGML v1.0//EN
CALSCALE:GREGORIAN
BEGIN:VTIMEZONE
TZID:Europe/Berlin
X-LIC-LOCATION:Europe/Berlin
BEGIN:DAYLIGHT
TZOFFSETFROM:+0100
TZOFFSETTO:+0200
TZNAME:CEST
DTSTART:19700329T020000
RRULE:FREQ=YEARLY;BYDAY=-1SU;BYMONTH=3
END:DAYLIGHT
BEGIN:STANDARD
TZOFFSETFROM:+0200
TZOFFSETTO:+0100
TZNAME:CET
DTSTART:19701025T030000
RRULE:FREQ=YEARLY;BYDAY=-1SU;BYMONTH=10
END:STANDARD
END:VTIMEZONE
BEGIN:VEVENT
DTEND;TZID=Europe/Berlin:20260803T120000
UID:69eb7217d4e26
DTSTAMP:20260424T153727
LOCATION:
DESCRIPTION:An diesem Vormittag erwartet die Kinder ein spannender Geschicklichkeitsparcours\, der ihre motorischen Fähigkeiten fördert. Zudem stehen abwechslungsreiche Gruppenspiele wie Fallschirmgolf und der Fröbelturm auf dem Programm\, die Teamarbeit und Kreativität anregen. Die Kinder haben die Möglichkeit\, sich auszutoben\, neue Freundschaften zu schließen und viel Spaß zu haben!
URL;VALUE=URI:https://www.unser-ferienprogramm.de/bogen/veranstaltung.php?id=250405
SUMMARY:Sport im Stadion
DTSTART;TZID=Europe/Berlin:20260803T090000
END:VEVENT

END:VCALENDAR
