BEGIN:VCALENDAR
VERSION:2.0
PRODID:-//hacksw/handcal//NONSGML v1.0//EN
CALSCALE:GREGORIAN
BEGIN:VTIMEZONE
TZID:Europe/Berlin
X-LIC-LOCATION:Europe/Berlin
BEGIN:DAYLIGHT
TZOFFSETFROM:+0100
TZOFFSETTO:+0200
TZNAME:CEST
DTSTART:19700329T020000
RRULE:FREQ=YEARLY;BYDAY=-1SU;BYMONTH=3
END:DAYLIGHT
BEGIN:STANDARD
TZOFFSETFROM:+0200
TZOFFSETTO:+0100
TZNAME:CET
DTSTART:19701025T030000
RRULE:FREQ=YEARLY;BYDAY=-1SU;BYMONTH=10
END:STANDARD
END:VTIMEZONE
BEGIN:VEVENT
DTEND;TZID=Europe/Berlin:20260603T170000
UID:69eb7217953c6
DTSTAMP:20260424T153727
LOCATION:Klosterhof Bogen/Oberalteich
DESCRIPTION:Erlebt die Freude am bayerischen Tanzen und Singen! Neben fröhlichen bayerischen Mundartliedern für Kinder laden wir euch ein\, traditionelle Tänze zu erlernen. Auch alte Spiele wie Stelzenlaufen und Roafdrahn sorgen für viel Spaß und Spannung. Kommt vorbei und entdeckt die bayerische Kultur auf spielerische Art!
URL;VALUE=URI:https://www.unser-ferienprogramm.de/bogen/veranstaltung.php?id=250394
SUMMARY:Bayerisch tanzen und singen
DTSTART;TZID=Europe/Berlin:20260603T140000
END:VEVENT

END:VCALENDAR
