BEGIN:VCALENDAR
VERSION:2.0
PRODID:-//hacksw/handcal//NONSGML v1.0//EN
CALSCALE:GREGORIAN
BEGIN:VTIMEZONE
TZID:Europe/Berlin
X-LIC-LOCATION:Europe/Berlin
BEGIN:DAYLIGHT
TZOFFSETFROM:+0100
TZOFFSETTO:+0200
TZNAME:CEST
DTSTART:19700329T020000
RRULE:FREQ=YEARLY;BYDAY=-1SU;BYMONTH=3
END:DAYLIGHT
BEGIN:STANDARD
TZOFFSETFROM:+0200
TZOFFSETTO:+0100
TZNAME:CET
DTSTART:19701025T030000
RRULE:FREQ=YEARLY;BYDAY=-1SU;BYMONTH=10
END:STANDARD
END:VTIMEZONE
BEGIN:VEVENT
DTEND;TZID=Europe/Berlin:20260527T120000
UID:69eb723114baa
DTSTAMP:20260424T153753
LOCATION:
DESCRIPTION:Eine eigene Radiosendung/Podcast moderieren ist doch cool.\r\nInteressiert? Dann kommt zu uns. In unserem Tonstudio könnt ihr unter der Anleitung von Otto Schellinger (Tontechniker beim BR) Texte schreiben und einsprechen\, Interviews führen\, Nachrichten und Wetterbericht erstellen\, Aufnahmen schneiden.\r\n\r\n
URL;VALUE=URI:https://www.unser-ferienprogramm.de/bogen/veranstaltung.php?id=250329
SUMMARY:Eigene Radiosendung erstellen
DTSTART;TZID=Europe/Berlin:20260526T090000
END:VEVENT

END:VCALENDAR
