BEGIN:VCALENDAR
VERSION:2.0
PRODID:-//hacksw/handcal//NONSGML v1.0//EN
CALSCALE:GREGORIAN
BEGIN:VTIMEZONE
TZID:Europe/Berlin
X-LIC-LOCATION:Europe/Berlin
BEGIN:DAYLIGHT
TZOFFSETFROM:+0100
TZOFFSETTO:+0200
TZNAME:CEST
DTSTART:19700329T020000
RRULE:FREQ=YEARLY;BYDAY=-1SU;BYMONTH=3
END:DAYLIGHT
BEGIN:STANDARD
TZOFFSETFROM:+0200
TZOFFSETTO:+0100
TZNAME:CET
DTSTART:19701025T030000
RRULE:FREQ=YEARLY;BYDAY=-1SU;BYMONTH=10
END:STANDARD
END:VTIMEZONE
BEGIN:VEVENT
DTEND;TZID=Europe/Berlin:20260526T130000
UID:69eb7349b3603
DTSTAMP:20260424T154233
LOCATION:Atrium im Europapark Bogen
DESCRIPTION:"Bring deine Kugel in die Nähe des „Schweinchens“!" - ist das Motto diesen Tages.\r\nEltern und Großeltern sind herzlich eingeladen bei dieser Freizeit mitzumachen!
URL;VALUE=URI:https://www.unser-ferienprogramm.de/bogen/veranstaltung.php?id=199255
SUMMARY:Boccia-Schnuppertraining 
DTSTART;TZID=Europe/Berlin:20260526T100000
END:VEVENT

END:VCALENDAR
