BEGIN:VCALENDAR
VERSION:2.0
PRODID:-//hacksw/handcal//NONSGML v1.0//EN
CALSCALE:GREGORIAN
BEGIN:VTIMEZONE
TZID:Europe/Berlin
X-LIC-LOCATION:Europe/Berlin
BEGIN:DAYLIGHT
TZOFFSETFROM:+0100
TZOFFSETTO:+0200
TZNAME:CEST
DTSTART:19700329T020000
RRULE:FREQ=YEARLY;BYDAY=-1SU;BYMONTH=3
END:DAYLIGHT
BEGIN:STANDARD
TZOFFSETFROM:+0200
TZOFFSETTO:+0100
TZNAME:CET
DTSTART:19701025T030000
RRULE:FREQ=YEARLY;BYDAY=-1SU;BYMONTH=10
END:STANDARD
END:VTIMEZONE
BEGIN:VEVENT
DTEND;TZID=Europe/Berlin:20260902T153000
UID:69eb889658b13
DTSTAMP:20260424T171326
LOCATION:Citydom Straubing
DESCRIPTION:In dem Kino hinter die Kulissen zu schauen - das wäre doch was Besonderes! Genau das dürfen die Kids an diesem spannenden Nachmittag erleben. Bei Popcorn\, Cola\, Fanta oder Sprite dürfen die Kinder im Anschluss einen  spannenden Film anschauen. 
URL;VALUE=URI:https://www.unser-ferienprogramm.de/bogen/veranstaltung.php?id=199235
SUMMARY:Ab ins Kino! Ein Nachmittag im Citydom Straubing mit der Führung 
DTSTART;TZID=Europe/Berlin:20260902T130000
END:VEVENT

END:VCALENDAR
