BEGIN:VCALENDAR
VERSION:2.0
PRODID:-//hacksw/handcal//NONSGML v1.0//EN
CALSCALE:GREGORIAN
BEGIN:VTIMEZONE
TZID:Europe/Berlin
X-LIC-LOCATION:Europe/Berlin
BEGIN:DAYLIGHT
TZOFFSETFROM:+0100
TZOFFSETTO:+0200
TZNAME:CEST
DTSTART:19700329T020000
RRULE:FREQ=YEARLY;BYDAY=-1SU;BYMONTH=3
END:DAYLIGHT
BEGIN:STANDARD
TZOFFSETFROM:+0200
TZOFFSETTO:+0100
TZNAME:CET
DTSTART:19701025T030000
RRULE:FREQ=YEARLY;BYDAY=-1SU;BYMONTH=10
END:STANDARD
END:VTIMEZONE
BEGIN:VEVENT
DTEND;TZID=Europe/Berlin:20261105T110000
UID:69eb87ab35411
DTSTAMP:20260424T170931
LOCATION:Jugendbildungsstätte Windberg
DESCRIPTION:Du erfindest gerne Geschichten?\r\nDann laden wir dich herzlich ein\, mit vielen anderen Jungs und Mädchen ins Lese- und Büchercamp nach Windberg zu kommen. Wir werden Bücher entdecken und unbekannte Geschichten erfinden. Wir werden Theater spielen\, Schriftsteller*in sein und Abenteuer erleben. Hexen\, Räuber und Könige werden mit dir zu Tische sitzen. Hereinspaziert zu diesen tollen Tagen!
URL;VALUE=URI:https://www.unser-ferienprogramm.de/bogen/veranstaltung.php?id=159882
SUMMARY:Lese- und Büchercamp - Herbstferien 
DTSTART;TZID=Europe/Berlin:20261102T170000
END:VEVENT

END:VCALENDAR
