BEGIN:VCALENDAR
VERSION:2.0
PRODID:-//hacksw/handcal//NONSGML v1.0//EN
CALSCALE:GREGORIAN
BEGIN:VTIMEZONE
TZID:Europe/Berlin
X-LIC-LOCATION:Europe/Berlin
BEGIN:DAYLIGHT
TZOFFSETFROM:+0100
TZOFFSETTO:+0200
TZNAME:CEST
DTSTART:19700329T020000
RRULE:FREQ=YEARLY;BYDAY=-1SU;BYMONTH=3
END:DAYLIGHT
BEGIN:STANDARD
TZOFFSETFROM:+0200
TZOFFSETTO:+0100
TZNAME:CET
DTSTART:19701025T030000
RRULE:FREQ=YEARLY;BYDAY=-1SU;BYMONTH=10
END:STANDARD
END:VTIMEZONE
BEGIN:VEVENT
DTEND;TZID=Europe/Berlin:20260804T140000
UID:69eb7202370a1
DTSTAMP:20260424T153706
LOCATION:TfK-Technikhaus Straubing
DESCRIPTION:Erlebe einen spannenden und lehrreichen Vormittag rund um Technik! Kinder haben die Möglichkeit\, ihren eigenen Tisch-Lüfter zu bauen. So entsteht nicht nur ein praktisches Gerät für die heißen Tage\, sondern auch jede Menge Spaß und Wissen über Technik. Komm vorbei und gestalte deinen persönlichen Lüfter für die perfekte Abkühlung!\r\n
URL;VALUE=URI:https://www.unser-ferienprogramm.de/bogen/veranstaltung.php?id=152710
SUMMARY:Besuch des Technikhauses in Straubing
DTSTART;TZID=Europe/Berlin:20260804T084500
END:VEVENT

END:VCALENDAR
