BEGIN:VCALENDAR
VERSION:2.0
PRODID:-//hacksw/handcal//NONSGML v1.0//EN
CALSCALE:GREGORIAN
BEGIN:VTIMEZONE
TZID:Europe/Berlin
X-LIC-LOCATION:Europe/Berlin
BEGIN:DAYLIGHT
TZOFFSETFROM:+0100
TZOFFSETTO:+0200
TZNAME:CEST
DTSTART:19700329T020000
RRULE:FREQ=YEARLY;BYDAY=-1SU;BYMONTH=3
END:DAYLIGHT
BEGIN:STANDARD
TZOFFSETFROM:+0200
TZOFFSETTO:+0100
TZNAME:CET
DTSTART:19701025T030000
RRULE:FREQ=YEARLY;BYDAY=-1SU;BYMONTH=10
END:STANDARD
END:VTIMEZONE
BEGIN:VEVENT
DTEND;TZID=Europe/Berlin:20260825T120000
UID:69eb71b52bd4c
DTSTAMP:20260424T153549
LOCATION:Reiterhof Bielmaier 
DESCRIPTION:An diesem Vormittag haben die Kinder die Möglichkeit\, den Umgang mit den Pferden zu erlernen. Sie dürfen mit ihnen spazieren gehen\, sie putzen und pflegen. Ein Ponyreiten wird den Tag wunderbar abrunden. Zudem erwartet die Kinder eine kleine Bastelarbeit\, die für zusätzlichen Spaß sorgt.
URL;VALUE=URI:https://www.unser-ferienprogramm.de/bogen/veranstaltung.php?id=119744
SUMMARY:Spaß am Reiterhof
DTSTART;TZID=Europe/Berlin:20260825T090000
END:VEVENT

END:VCALENDAR
