BEGIN:VCALENDAR
VERSION:2.0
PRODID:-//hacksw/handcal//NONSGML v1.0//EN
CALSCALE:GREGORIAN
BEGIN:VTIMEZONE
TZID:Europe/Berlin
X-LIC-LOCATION:Europe/Berlin
BEGIN:DAYLIGHT
TZOFFSETFROM:+0100
TZOFFSETTO:+0200
TZNAME:CEST
DTSTART:19700329T020000
RRULE:FREQ=YEARLY;BYDAY=-1SU;BYMONTH=3
END:DAYLIGHT
BEGIN:STANDARD
TZOFFSETFROM:+0200
TZOFFSETTO:+0100
TZNAME:CET
DTSTART:19701025T030000
RRULE:FREQ=YEARLY;BYDAY=-1SU;BYMONTH=10
END:STANDARD
END:VTIMEZONE
BEGIN:VEVENT
DTEND;TZID=Europe/Berlin:20260805T130000
UID:69eb7508dce69
DTSTAMP:20260424T155000
LOCATION:Donaustrand an der Hundespielwiese
DESCRIPTION:In diesem spannenden Umweltprogramm entdecken Kinder auf spielerische Weise die Geheimnisse der Donau und des Auwaldes. Nach einer thematischen Einstimmung rund um das Wasser werden die Teilnehmer auf eine „Piraten-Ausbildung“ vorbereitet und verwandeln sich mit Kostümierung und Schminke in echte Piraten. Unter der Führung eines Piratenkapitäns absolvieren sie einen abwechslungsreichen Parcours mit Bewegungs- und Informationsstationen. Dabei lernen sie durch eigenes Beobachten und Ausprobieren Wissenswertes über Tiere und Pflanzen der Donau\, zum Beispiel über den Biber und die Weide. Ein besonderes Highlight ist das Keschern nach kleinen Wasserlebewesen und deren gemeinsames Bestimmen.\r\n
URL;VALUE=URI:https://www.unser-ferienprogramm.de/bogen/veranstaltung.php?id=119671
SUMMARY:Piraten und Landratten
DTSTART;TZID=Europe/Berlin:20260805T090000
END:VEVENT

END:VCALENDAR
