BEGIN:VCALENDAR
VERSION:2.0
PRODID:-//hacksw/handcal//NONSGML v1.0//EN
CALSCALE:GREGORIAN
BEGIN:VTIMEZONE
TZID:Europe/Berlin
X-LIC-LOCATION:Europe/Berlin
BEGIN:DAYLIGHT
TZOFFSETFROM:+0100
TZOFFSETTO:+0200
TZNAME:CEST
DTSTART:19700329T020000
RRULE:FREQ=YEARLY;BYDAY=-1SU;BYMONTH=3
END:DAYLIGHT
BEGIN:STANDARD
TZOFFSETFROM:+0200
TZOFFSETTO:+0100
TZNAME:CET
DTSTART:19701025T030000
RRULE:FREQ=YEARLY;BYDAY=-1SU;BYMONTH=10
END:STANDARD
END:VTIMEZONE
BEGIN:VEVENT
DTEND;TZID=Europe/Berlin:20260815T110000
UID:69eb71b4b887d
DTSTAMP:20260424T153548
LOCATION:Jugendbildungsstätte Windberg 
DESCRIPTION:Egal ob in der Natur des bayrischen Waldes\, auf den vielen Freiflächen unseres Geländes oder in den entspannenden Gruppenräumen – wir werden gewaltige Projekte in Angriff nehmen\, uns handwerklich\, künstlerisch und kreativ ausprobieren\, bei Geländespielen über die Wiesen laufen\, uns selbst auf ganz neue Arten kennenlernen und noch vieles mehr!
URL;VALUE=URI:https://www.unser-ferienprogramm.de/bogen/veranstaltung.php?id=119668
SUMMARY:Bufrei - eine Sommerwoche für Jungs
DTSTART;TZID=Europe/Berlin:20260809T170000
END:VEVENT

END:VCALENDAR
