BEGIN:VCALENDAR
VERSION:2.0
PRODID:-//hacksw/handcal//NONSGML v1.0//EN
CALSCALE:GREGORIAN
BEGIN:VTIMEZONE
TZID:Europe/Berlin
X-LIC-LOCATION:Europe/Berlin
BEGIN:DAYLIGHT
TZOFFSETFROM:+0100
TZOFFSETTO:+0200
TZNAME:CEST
DTSTART:19700329T020000
RRULE:FREQ=YEARLY;BYDAY=-1SU;BYMONTH=3
END:DAYLIGHT
BEGIN:STANDARD
TZOFFSETFROM:+0200
TZOFFSETTO:+0100
TZNAME:CET
DTSTART:19701025T030000
RRULE:FREQ=YEARLY;BYDAY=-1SU;BYMONTH=10
END:STANDARD
END:VTIMEZONE
BEGIN:VEVENT
DTEND;TZID=Europe/Berlin:20260831T120000
UID:69ebc0cfa461e
DTSTAMP:20260424T211319
LOCATION:Freibad der Stadt Bogen/Haus der Begegnung
DESCRIPTION:Dieses aufregende Programm setzt sich aus zwei spannenden Teilen zusammen:\r\n\r\nIm ersten Teil haben die Kinder die Möglichkeit\, die technischen Anlagen und Räume des Freibades Bogen zu erkunden.\r\n\r\nIm zweiten Teil dürfen sie sich im Haus der Begegnung aktiv mit Spielen und Experimenten rund um das Thema Wasser vergnügen.
URL;VALUE=URI:https://www.unser-ferienprogramm.de/bogen/veranstaltung.php?id=119664
SUMMARY:Was Wasser alles kann
DTSTART;TZID=Europe/Berlin:20260831T090000
END:VEVENT

END:VCALENDAR
