BEGIN:VCALENDAR
VERSION:2.0
PRODID:-//hacksw/handcal//NONSGML v1.0//EN
CALSCALE:GREGORIAN
BEGIN:VTIMEZONE
TZID:Europe/Berlin
X-LIC-LOCATION:Europe/Berlin
BEGIN:DAYLIGHT
TZOFFSETFROM:+0100
TZOFFSETTO:+0200
TZNAME:CEST
DTSTART:19700329T020000
RRULE:FREQ=YEARLY;BYDAY=-1SU;BYMONTH=3
END:DAYLIGHT
BEGIN:STANDARD
TZOFFSETFROM:+0200
TZOFFSETTO:+0100
TZNAME:CET
DTSTART:19701025T030000
RRULE:FREQ=YEARLY;BYDAY=-1SU;BYMONTH=10
END:STANDARD
END:VTIMEZONE
BEGIN:VEVENT
DTEND;TZID=Europe/Berlin:20260808T110000
UID:69eb71e3b1faa
DTSTAMP:20260424T153635
LOCATION:Jugendbildungsstätte Windberg 
DESCRIPTION:Für jede Altersgruppe gibt es wieder spannende und interessante Themen\, viel Neues zu entdecken und auszuprobieren und vor Allem eine Menge Spaß! Hier kannst du Mädchen und Frau sein. Wir Mädels unter uns gehen auf die Dinge ein\, die in deinem Leben wichtig sind. Wir werden uns aber natürlich nicht nur mit uns selbst\, sondern auch mit der Welt um uns herum beschäftigen: Wie wirkt unsere Umwelt und unser Umfeld auf uns ein? Welche Spuren hinterlassen wir in unserer Umwelt?
URL;VALUE=URI:https://www.unser-ferienprogramm.de/bogen/veranstaltung.php?id=119662
SUMMARY:Mäfrei - Sommerwoche für Mädchen
DTSTART;TZID=Europe/Berlin:20260802T170000
END:VEVENT

END:VCALENDAR
